BEGIN:VCALENDAR
VERSION:2.0
PRODID:-//Fundación Teatro Nacional Sucre - ECPv6.15.20//NONSGML v1.0//EN
CALSCALE:GREGORIAN
METHOD:PUBLISH
X-ORIGINAL-URL:https://teatrosucre.com
X-WR-CALDESC:Eventos para Fundación Teatro Nacional Sucre
REFRESH-INTERVAL;VALUE=DURATION:PT1H
X-Robots-Tag:noindex
X-PUBLISHED-TTL:PT1H
BEGIN:VTIMEZONE
TZID:America/Guayaquil
BEGIN:STANDARD
TZOFFSETFROM:-0500
TZOFFSETTO:-0500
TZNAME:-05
DTSTART:20220101T000000
END:STANDARD
END:VTIMEZONE
BEGIN:VEVENT
DTSTART;TZID=America/Guayaquil:20230804T190000
DTEND;TZID=America/Guayaquil:20230804T213000
DTSTAMP:20260423T040313
CREATED:20230713T160453Z
LAST-MODIFIED:20230727T182954Z
UID:191379-1691175600-1691184600@teatrosucre.com
SUMMARY:Tríptico Quiteño
DESCRIPTION:Tríptico Quiteño es una ópera nacionalista del compositor ecuatoriano Marcelo Beltrán\, que se basa en tres leyendas tradicionales de Quito: El Gallito de la Catedral\, San Antonio de Cabeza y Cantuña. Bajo la dirección escénica de María Elena Mexia\, esta producción busca presentar estas leyendas desde una perspectiva futurista y poco convencional. Participarán en la ópera los solistas de la Escuela Lírica\, el Coro Mixto Ciudad de Quito\, parte del Coro Juvenil y un ensamble de la Banda Sinfónica Metropolitana de Quito\, junto con un grupo de cuerdas que conformarán la Orquesta Sinfónica Metropolitana. La dirección musical estará a cargo de Jorge Oviedo. \nEl compositor reconoce la importancia de los mitos y leyendas como parte integral de la identidad cultural de los pueblos. En este caso\, las tres leyendas propuestas son fundamentales en la cultura quiteña. Para cada una de ellas se ha compuesto una ópera corta con libreto y música\, que combina elementos sonoros propios de la música ecuatoriana con conceptos sinfónicos y vocales propios del género operístico. Se busca lograr un lenguaje comprensible para todo el público sin renunciar a su carácter dramático. \nFicha artística: \n Compositor: Marcelo Beltrán Flores\n Dirección musical: Jorge Oviedo\n Dirección escénica: María Elena Mexia\n Dirección coral: César Espinoza\n Escenografía y diseño de luces: María Elena Mexia\n Diseño de Vestuario: Karina Dávila\n Maquillaje y peluquería: Andrea Calva\n Solistas: Escuela Lírica\, Coro Mixto Ciudad de Quito e invitadas.\n Agrupaciones: Coro Mixto Ciudad de Quito\, integrantes del Coro Juvenil\, y Orquesta Sinfónica Metropolitana conformada por integrantes de la Banda Sinfónica Metropolitana de Quito y cuerdas invitadas.
URL:https://teatrosucre.com/event/triptico-quiteno/
LOCATION:Teatro Nacional Sucre\, Guayaquil &\, Manabi\, Quito 170401\, Quito\, Pichincha\, Ecuador
CATEGORIES:Opera
ATTACH;FMTTYPE=image/jpeg:https://cdn.teatrosucre.com/wp-content/uploads/2023/07/13101640/triptico_m2g_1.jpg
GEO:-0.2191751;-78.508865
X-APPLE-STRUCTURED-LOCATION;VALUE=URI;X-ADDRESS=Teatro Nacional Sucre Guayaquil & Manabi Quito 170401 Quito Pichincha Ecuador;X-APPLE-RADIUS=500;X-TITLE=Guayaquil &\, Manabi\, Quito 170401:geo:-78.508865,-0.2191751
END:VEVENT
BEGIN:VEVENT
DTSTART;TZID=America/Guayaquil:20230805T180000
DTEND;TZID=America/Guayaquil:20230805T193000
DTSTAMP:20260423T040313
CREATED:20230713T154732Z
LAST-MODIFIED:20230713T154732Z
UID:191373-1691258400-1691263800@teatrosucre.com
SUMMARY:Caminando
DESCRIPTION:En «Caminando» un mundo apacible se ve sumido en conflicto cuando el sol y la luna desaparecen\, buscándose y escapando mutuamente. Esta relación prohibida y sus consecuencias se representan a través de escenas solares y lunares\, donde todos los elencos artísticos de Pacha Callari participan en un diálogo intercultural e intergeneracional. Al final\, la comunidad se une para celebrar una fiesta inconclusa\, consciente de que el sol y la luna nunca podrán unirse por el bien de la continuidad de la humanidad. \nPacha Callari es un centro cultural fundado en 1995\, ubicado en la Ferroviaria Alta\, sur oriente de Quito\, integrado por agrupaciones de danza y música. Desarrolla proyectos artísticos\, educativos y de emprendimiento con enfoque comunitario. Su fortaleza es su diversidad cultural matizada por la memoria ancestral e identidad urbana. Sus propuestas artísticas combinan la danza\, el teatro y la música\, las que han sido presentadas primero en su barrio y luego en el Teatro México\, Teatro Nacional\, Teatro Capitol y Teatro Prometeo.
URL:https://teatrosucre.com/event/caminando/
LOCATION:Teatro México\, Tomebamba\, Quito 170121\, Quito\, Pichincha\, Ecuador
CATEGORIES:Danza,Música,Teatro
ATTACH;FMTTYPE=image/jpeg:https://cdn.teatrosucre.com/wp-content/uploads/2023/07/13101642/Meet2Go-Pacha-Callari-scaled.jpg
GEO:-0.2399671;-78.5186573
X-APPLE-STRUCTURED-LOCATION;VALUE=URI;X-ADDRESS=Teatro México Tomebamba Quito 170121 Quito Pichincha Ecuador;X-APPLE-RADIUS=500;X-TITLE=Tomebamba\, Quito 170121:geo:-78.5186573,-0.2399671
END:VEVENT
BEGIN:VEVENT
DTSTART;TZID=America/Guayaquil:20230805T190000
DTEND;TZID=America/Guayaquil:20230805T213000
DTSTAMP:20260423T040313
CREATED:20230713T161948Z
LAST-MODIFIED:20240201T215542Z
UID:191391-1691262000-1691271000@teatrosucre.com
SUMMARY:Tríptico Quiteño
DESCRIPTION:Tríptico Quiteño es una ópera nacionalista del compositor ecuatoriano Marcelo Beltrán\, que se basa en tres leyendas tradicionales de Quito: El Gallito de la Catedral\, San Antonio de Cabeza y Cantuña. Bajo la dirección escénica de María Elena Mexia\, esta producción busca presentar estas leyendas desde una perspectiva futurista y poco convencional. Participarán en la ópera los solistas de la Escuela Lírica\, el Coro Mixto Ciudad de Quito\, parte del Coro Juvenil y un ensamble de la Banda Sinfónica Metropolitana de Quito\, junto con un grupo de cuerdas que conformarán la Orquesta Sinfónica Metropolitana. La dirección musical estará a cargo de Jorge Oviedo. \nEl compositor reconoce la importancia de los mitos y leyendas como parte integral de la identidad cultural de los pueblos. En este caso\, las tres leyendas propuestas son fundamentales en la cultura quiteña. Para cada una de ellas se ha compuesto una ópera corta con libreto y música\, que combina elementos sonoros propios de la música ecuatoriana con conceptos sinfónicos y vocales propios del género operístico. Se busca lograr un lenguaje comprensible para todo el público sin renunciar a su carácter dramático. \n  \nFicha artística: \n Compositor: Marcelo Beltrán Flores\n Dirección musical: Jorge Oviedo\n Dirección escénica: María Elena Mexia\n Dirección coral: César Espinoza\n Escenografía y diseño de luces: María Elena Mexia\n Diseño de Vestuario: Karina Dávila\n Maquillaje y peluquería: Andrea Calva\n Solistas: Escuela Lírica\, Coro Mixto Ciudad de Quito e invitadas.\n Agrupaciones: Coro Mixto Ciudad de Quito\, integrantes del Coro Juvenil\, y Orquesta Sinfónica Metropolitana conformada por integrantes de la Banda Sinfónica Metropolitana de Quito y cuerdas invitadas.\n 
URL:https://teatrosucre.com/event/triptico-quiteno-2/
LOCATION:Teatro Nacional Sucre\, Guayaquil &\, Manabi\, Quito 170401\, Quito\, Pichincha\, Ecuador
CATEGORIES:Opera
ATTACH;FMTTYPE=image/jpeg:https://cdn.teatrosucre.com/wp-content/uploads/2023/07/13101638/triptico_m2g_2.jpg
GEO:-0.2191751;-78.508865
X-APPLE-STRUCTURED-LOCATION;VALUE=URI;X-ADDRESS=Teatro Nacional Sucre Guayaquil & Manabi Quito 170401 Quito Pichincha Ecuador;X-APPLE-RADIUS=500;X-TITLE=Guayaquil &\, Manabi\, Quito 170401:geo:-78.508865,-0.2191751
END:VEVENT
BEGIN:VEVENT
DTSTART;TZID=America/Guayaquil:20230809T190000
DTEND;TZID=America/Guayaquil:20230809T213000
DTSTAMP:20260423T040313
CREATED:20230713T164247Z
LAST-MODIFIED:20240201T220251Z
UID:191409-1691607600-1691616600@teatrosucre.com
SUMMARY:Tríptico Quiteño
DESCRIPTION:Tríptico Quiteño es una ópera nacionalista del compositor ecuatoriano Marcelo Beltrán\, que se basa en tres leyendas tradicionales de Quito: El Gallito de la Catedral\, San Antonio de Cabeza y Cantuña. Bajo la dirección escénica de María Elena Mexia\, esta producción busca presentar estas leyendas desde una perspectiva futurista y poco convencional. Participarán en la ópera los solistas de la Escuela Lírica\, el Coro Mixto Ciudad de Quito\, parte del Coro Juvenil y un ensamble de la Banda Sinfónica Metropolitana de Quito\, junto con un grupo de cuerdas que conformarán la Orquesta Sinfónica Metropolitana. La dirección musical estará a cargo de Jorge Oviedo. \nEl compositor reconoce la importancia de los mitos y leyendas como parte integral de la identidad cultural de los pueblos. En este caso\, las tres leyendas propuestas son fundamentales en la cultura quiteña. Para cada una de ellas se ha compuesto una ópera corta con libreto y música\, que combina elementos sonoros propios de la música ecuatoriana con conceptos sinfónicos y vocales propios del género operístico. Se busca lograr un lenguaje comprensible para todo el público sin renunciar a su carácter dramático. \nFicha artística: \n Compositor: Marcelo Beltrán Flores\n Dirección musical: Jorge Oviedo\n Dirección escénica: María Elena Mexia\n Dirección coral: César Espinoza\n Escenografía y diseño de luces: María Elena Mexia\n Diseño de Vestuario: Karina Dávila\n Maquillaje y peluquería: Andrea Calva\n Solistas: Escuela Lírica\, Coro Mixto Ciudad de Quito e invitadas.\n Agrupaciones: Coro Mixto Ciudad de Quito\, integrantes del Coro Juvenil\, y Orquesta Sinfónica Metropolitana conformada por integrantes de la Banda Sinfónica Metropolitana de Quito y cuerdas invitadas.
URL:https://teatrosucre.com/event/triptico-quiteno-4/
LOCATION:Teatro Nacional Sucre\, Guayaquil &\, Manabi\, Quito 170401\, Quito\, Pichincha\, Ecuador
CATEGORIES:Opera
ATTACH;FMTTYPE=image/jpeg:https://cdn.teatrosucre.com/wp-content/uploads/2023/07/13101634/triptico_m2g_4.jpg
GEO:-0.2191751;-78.508865
X-APPLE-STRUCTURED-LOCATION;VALUE=URI;X-ADDRESS=Teatro Nacional Sucre Guayaquil & Manabi Quito 170401 Quito Pichincha Ecuador;X-APPLE-RADIUS=500;X-TITLE=Guayaquil &\, Manabi\, Quito 170401:geo:-78.508865,-0.2191751
END:VEVENT
END:VCALENDAR