BEGIN:VCALENDAR
VERSION:2.0
PRODID:-//Fundación Teatro Nacional Sucre - ECPv6.15.20//NONSGML v1.0//EN
CALSCALE:GREGORIAN
METHOD:PUBLISH
X-WR-CALNAME:Fundación Teatro Nacional Sucre
X-ORIGINAL-URL:https://teatrosucre.com
X-WR-CALDESC:Eventos para Fundación Teatro Nacional Sucre
REFRESH-INTERVAL;VALUE=DURATION:PT1H
X-Robots-Tag:noindex
X-PUBLISHED-TTL:PT1H
BEGIN:VTIMEZONE
TZID:America/Guayaquil
BEGIN:STANDARD
TZOFFSETFROM:-0500
TZOFFSETTO:-0500
TZNAME:-05
DTSTART:20250101T000000
END:STANDARD
END:VTIMEZONE
BEGIN:VEVENT
DTSTART;TZID=America/Guayaquil:20260521T190000
DTEND;TZID=America/Guayaquil:20260521T203000
DTSTAMP:20260420T205336
CREATED:20260420T161109Z
LAST-MODIFIED:20260420T161538Z
UID:279017-1779390000-1779395400@teatrosucre.com
SUMMARY:El Cadaver Negro del Sol
DESCRIPTION:*Algunas localidades del Teatro Nacional Sucre requieren el uso de gradas para su acceso. \nPor favor\, considere lo siguiente para su movilización: \nPLATEA: 12 gradas\n2DA DE PALCOS: 15 gradas\nLUNETA: 27 gradas\nTERRAZA TNS: 24 gradas \nSinopsis\nEl sol fue cooptado\, las acllas y su guardia permanecen con el único horizonte de engendrar al hijo del sol. El cadáver negro del sol es un ritual escénico contemporáneo construido sobre crónicas coloniales\, archivo moderno\, especulación post-solar\, deseo y rito. \nDos ciclos solares de duración\, diez bailarinas en escena con data astronómica en tiempo real modulando sonido y luz en vivo\, un universo sensorial denso y erótico que no separa la devoción del deseo. \nBiografía\nTardigradx bicephalus es el colectivo formado por Denise Neira Vieira y Gabriel Barreto Acosta. Se conocen hace más de veinte años y llevan una década de proyectos conjuntos sostenidos.  Su formación transdisciplinar —arquitectura\, diseño industrial\, composición electroacústica\, performance\, investigación artística— es su condición de origen transversal a su práctica artística y pedagógica. \nEntre sus proyectos más representativos están Transistores (2022)\, fondos IFCI 2021\, presentada en el Festival Fiesta Escénica del Teatro Nacional Sucre y otros varios festivales; CLIMA (2024–2025)\, ganadora de la residencia de creación de la Fiesta Escénica 2024\, FIAVL 2025\, Sala Mitómana 2026 con publicaciones académicas en la Revista Post(s) y en los Anales del Simpósio LUME de la Universidad Estatal de Campinas\, Brasil; Desmontaje de una fiesta centenaria (2024)\, proyecto editorial comisionado por la Cinemateca Nacional del Ecuador; y su participación como equipo educativo del proyecto HILA de la Fundación Museos de la Ciudad (2024). \n  \nObra ganadora de la Línea de Fomento de producción de artes escénicas IFAIC 2025.
URL:https://teatrosucre.com/event/el-cadaver-negro-del-sol/
LOCATION:Teatro Nacional Sucre\, Guayaquil &\, Manabi\, Quito 170401\, Quito\, Pichincha\, Ecuador
CATEGORIES:Teatro
ATTACH;FMTTYPE=image/png:https://cdn.teatrosucre.com/wp-content/uploads/2026/04/20111112/1a77bec1-5321-4387-aa64-59bd2591a62d.png
GEO:-0.2191751;-78.508865
X-APPLE-STRUCTURED-LOCATION;VALUE=URI;X-ADDRESS=Teatro Nacional Sucre Guayaquil & Manabi Quito 170401 Quito Pichincha Ecuador;X-APPLE-RADIUS=500;X-TITLE=Guayaquil &\, Manabi\, Quito 170401:geo:-78.508865,-0.2191751
END:VEVENT
BEGIN:VEVENT
DTSTART;TZID=America/Guayaquil:20260523T170000
DTEND;TZID=America/Guayaquil:20260523T200000
DTSTAMP:20260420T205336
CREATED:20260330T202231Z
LAST-MODIFIED:20260330T202433Z
UID:278759-1779555600-1779566400@teatrosucre.com
SUMMARY:Tebas Land
DESCRIPTION:*Algunas localidades del Teatro Nacional Sucre requieren el uso de gradas para su acceso.\nPor favor\, considere lo siguiente para su movilización: \nPLATEA: 12 gradas\n2DA DE PALCOS: 15 gradas\nLUNETA: 27 gradas\nTERRAZA TNS: 24 gradas \nUna historia real atraviesa la escena y se convierte en teatro. Tebas Land nace de una investigación artística con una Persona Privada de Libertad y reconstruye los encuentros entre un dramaturgo y un joven condenado por el asesinato de su padre. \nEn este juego entre realidad y ficción\, la obra no solo relata: expone su propio proceso creativo y enfrenta al espectador con los dilemas éticos de representar una historia marcada por la violencia. Aquí\, el teatro se vuelve espejo incómodo\, donde la paternidad\, la culpa y la mirada social se tensionan hasta el límite. \nMás que una obra\, Tebas Land es una experiencia intensa que te invita a ser testigo\, a cuestionar lo que crees saber y a mirar de frente aquello que muchas veces preferimos evitar. \nVívela en el Teatro Nacional Sucre. \nTebas Land explora crimen\, culpa y realidad en una intensa experiencia teatral.
URL:https://teatrosucre.com/event/tebas-land/
LOCATION:Teatro Nacional Sucre\, Guayaquil &\, Manabi\, Quito 170401\, Quito\, Pichincha\, Ecuador
CATEGORIES:Teatro
ATTACH;FMTTYPE=image/jpeg:https://cdn.teatrosucre.com/wp-content/uploads/2026/03/30152233/663c24b3-e38c-4429-9be6-37f38bb66df6.jpg
GEO:-0.2191751;-78.508865
X-APPLE-STRUCTURED-LOCATION;VALUE=URI;X-ADDRESS=Teatro Nacional Sucre Guayaquil & Manabi Quito 170401 Quito Pichincha Ecuador;X-APPLE-RADIUS=500;X-TITLE=Guayaquil &\, Manabi\, Quito 170401:geo:-78.508865,-0.2191751
END:VEVENT
BEGIN:VEVENT
DTSTART;TZID=America/Guayaquil:20260601T112700
DTEND;TZID=America/Guayaquil:20260825T000000
DTSTAMP:20260420T205336
CREATED:20250909T155802Z
LAST-MODIFIED:20260330T202344Z
UID:276578-1780313220-1787616000@teatrosucre.com
SUMMARY:Bolso FTNS
DESCRIPTION:La mercadería sólo puede ser canjeada en la boletería del Teatro Nacional Sucre. \nVístete\, usa y consume la merch de la Fundación Teatro Nacional Sucre. \nEl bolso FTNS combina moda y comodidad a la perfección. Ideal para llevar tus libros\, instrumentos o cualquier objeto indispensable a donde vayas. Además\, su diseño único está inspirado en los elementos teatrales de la Fundación. \n¡Disponible hasta agotar stock!\nSé parte del mejor espacio del arte y la cultura en el país con nuestros productos a la venta.
URL:https://teatrosucre.com/event/bolso-ftns-3/
LOCATION:Productos Merchandising
ATTACH;FMTTYPE=image/jpeg:https://cdn.teatrosucre.com/wp-content/uploads/2025/09/09105804/ab8de7bc-ee2f-4de7-9534-f31f0f15dabe.jpg
END:VEVENT
BEGIN:VEVENT
DTSTART;TZID=America/Guayaquil:20260601T115500
DTEND;TZID=America/Guayaquil:20260924T115500
DTSTAMP:20260420T205336
CREATED:20250909T155825Z
LAST-MODIFIED:20260330T202350Z
UID:276581-1780314900-1790250900@teatrosucre.com
SUMMARY:Medias FTNS
DESCRIPTION:La mercadería sólo puede ser canjeada en la boletería del Teatro Nacional Sucre. \nVístete\, usa y consume la merch de la Fundación Teatro Nacional Sucre. \nLas medias FTNS combinan confort y estilo para acompañarte todos los días. Ideales para darle un toque único a tu look\, están inspiradas en los elementos teatrales de la Fundación y hechas con materiales de alta calidad para un ajuste perfecto. \n¡Disponible hasta agotar stock!\nSé parte del mejor espacio del arte y la cultura en el país con nuestros productos a la venta.
URL:https://teatrosucre.com/event/medias-ftns-3/
LOCATION:Productos Merchandising
ATTACH;FMTTYPE=image/jpeg:https://cdn.teatrosucre.com/wp-content/uploads/2025/09/09105830/9df24f51-cc85-4eab-91d2-e1f14efa737c.jpg
END:VEVENT
BEGIN:VEVENT
DTSTART;TZID=America/Guayaquil:20260601T120300
DTEND;TZID=America/Guayaquil:20260924T000000
DTSTAMP:20260420T205336
CREATED:20250909T155844Z
LAST-MODIFIED:20260330T202355Z
UID:276584-1780315380-1790208000@teatrosucre.com
SUMMARY:Agendas FTNS
DESCRIPTION:La mercadería sólo puede ser canjeada en la boletería del Teatro Nacional Sucre. \nVístete\, usa y consume la merch de la Fundación Teatro Nacional Sucre. \nNuestras agendas FTNS fusionan estilo y funcionalidad para acompañarte en cada paso. Llévala a todas partes para anotar tus ideas\, planes o tareas importantes\, mientras disfrutas de un diseño único inspirado en los teatros de la Fundación. \n¡Disponible hasta agotar stock!\nSé parte del mejor espacio del arte y la cultura en el país con nuestros productos a la venta.
URL:https://teatrosucre.com/event/agendas-ftns-2/
LOCATION:Productos Merchandising
ATTACH;FMTTYPE=image/jpeg:https://cdn.teatrosucre.com/wp-content/uploads/2025/09/09105849/5575bee1-fcfc-4879-95a0-46064d9abb92.jpg
END:VEVENT
BEGIN:VEVENT
DTSTART;TZID=America/Guayaquil:20260601T121100
DTEND;TZID=America/Guayaquil:20260924T121100
DTSTAMP:20260420T205336
CREATED:20250909T155905Z
LAST-MODIFIED:20260330T202359Z
UID:276587-1780315860-1790251860@teatrosucre.com
SUMMARY:Tequileros FTNS
DESCRIPTION:La mercadería sólo puede ser canjeada en la boletería del Teatro Nacional Sucre. \nVístete\, usa y consume la merch de la Fundación Teatro Nacional Sucre. \nLos tequileros FTNS combinan estilo y tradición para que disfrutes cada brindis. Perfectos para compartir con amigos y celebrar momentos especiales\, están inspirados en los elementos teatrales de la Fundación y hechos con materiales de alta calidad. \n¡Disponible hasta agotar stock!\nSé parte del mejor espacio del arte y la cultura en el país con nuestros productos a la venta.
URL:https://teatrosucre.com/event/tequileros-ftns-2/
LOCATION:Productos Merchandising
ATTACH;FMTTYPE=image/jpeg:https://cdn.teatrosucre.com/wp-content/uploads/2025/09/09105909/e3d2d48c-a9b4-446b-9ea4-3683f7810f34.jpg
END:VEVENT
BEGIN:VEVENT
DTSTART;TZID=America/Guayaquil:20260601T122200
DTEND;TZID=America/Guayaquil:20260924T122200
DTSTAMP:20260420T205336
CREATED:20250909T160018Z
LAST-MODIFIED:20260330T202404Z
UID:276590-1780316520-1790252520@teatrosucre.com
SUMMARY:Hoodies FTNS
DESCRIPTION:La mercadería sólo puede ser canjeada en la boletería del Teatro Nacional Sucre. \nVístete\, usa y consume la merch de la Fundación Teatro Nacional Sucre. \nNuestros hoodies FTNS fusionan comodidad y estilo en una prenda esencial para tu día a día. Confeccionados con materiales de alta calidad y un diseño inspirado en los teatros de la Fundación\, son perfectos para acompañarte en cualquier plan con amigos o para relajarte en casa. \n¡Disponible hasta agotar stock!\nSé parte del mejor espacio del arte y la cultura en el país con nuestros productos a la venta.
URL:https://teatrosucre.com/event/hoodies-ftns-2/
LOCATION:Productos Merchandising
ATTACH;FMTTYPE=image/jpeg:https://cdn.teatrosucre.com/wp-content/uploads/2025/09/09110023/f645c79f-5e8c-4850-97a3-5f1d2c4240ea.jpg
END:VEVENT
END:VCALENDAR