BEGIN:VCALENDAR
VERSION:2.0
PRODID:-//Fundación Teatro Nacional Sucre - ECPv6.15.20//NONSGML v1.0//EN
CALSCALE:GREGORIAN
METHOD:PUBLISH
X-ORIGINAL-URL:https://teatrosucre.com
X-WR-CALDESC:Eventos para Fundación Teatro Nacional Sucre
REFRESH-INTERVAL;VALUE=DURATION:PT1H
X-Robots-Tag:noindex
X-PUBLISHED-TTL:PT1H
BEGIN:VTIMEZONE
TZID:America/Guayaquil
BEGIN:STANDARD
TZOFFSETFROM:-0500
TZOFFSETTO:-0500
TZNAME:-05
DTSTART:20240101T000000
END:STANDARD
END:VTIMEZONE
BEGIN:VEVENT
DTSTART;TZID=America/Guayaquil:20250615T190000
DTEND;TZID=America/Guayaquil:20250615T200000
DTSTAMP:20260422T170032
CREATED:20250521T154130Z
LAST-MODIFIED:20250521T154130Z
UID:265326-1750014000-1750017600@teatrosucre.com
SUMMARY:Gusanos de Metal - Hombres de papel
DESCRIPTION:La Fiesta Escénica de Quito regresa en 2025. Este año\, te invitamos a vivir la fiesta y pensar sobre la escena a través de potentes propuestas artísticas y actividades académicas. Del 12 al 29 de junio\, disfruta de una programación vibrante con destacados elencos nacionales e internacionales y sé parte de la mayor celebración del arte escénico en el Ecuador. \nEdad mínima: 5 años\nSobre la obra\nGusanos de Metal – Hombres de Papel es una propuesta escénica que nos invita a reflexionar sobre cómo el avance tecnológico nos ha ido alejando de la realidad\, sumergiéndonos en un estado de ensoñación permanente entre lo onírico y lo real. \nA través de situaciones surrealistas e imaginarias\, la obra plantea una pregunta urgente: ¿hasta qué punto hemos perdido nuestra conexión con el mundo tangible? ¿Es posible despertar de este sueño digital que nos consume? \n\nEvento de acceso libre
URL:https://teatrosucre.com/event/gusanos-de-metal-hombres-de-papel/
LOCATION:Centro Cultural Mama Cuchara\, Vicente Rocafuerte E3-215 y Chavez\, Quito\, Pichincha\, Ecuador
CATEGORIES:Teatro
ATTACH;FMTTYPE=image/jpeg:https://cdn.teatrosucre.com/wp-content/uploads/2025/05/19164235/m2go_GUSANOS.jpg
END:VEVENT
BEGIN:VEVENT
DTSTART;TZID=America/Guayaquil:20250616T180000
DTEND;TZID=America/Guayaquil:20250616T190000
DTSTAMP:20260422T170032
CREATED:20250605T161715Z
LAST-MODIFIED:20250605T161715Z
UID:268887-1750096800-1750100400@teatrosucre.com
SUMMARY:Carnavalazo - Hamlet
DESCRIPTION:La Fiesta Escénica de Quito regresa en 2025. Este año\, te invitamos a vivir la fiesta y pensar sobre la escena a través de potentes propuestas artísticas y actividades académicas. Del 12 al 29 de junio\, disfruta de una programación vibrante con destacados elencos nacionales e internacionales y sé parte de la mayor celebración del arte escénico en el Ecuador. \nLa Carrera de Artes Escénicas – Facultad de Artes Universidad Central del Ecuador es quien presenta esta obra.\nSobre la obra\nSe trata de una indagación entre un texto teatral clásico —Hamlet\, de Shakespeare— y la coyuntura política actual. El único lazo firme que une ambos mundos es la frase universal: “Algo está podrido en Dinamarca”. Hoy\, algo está podrido en el mundo\, en el continente\, en nuestro país. A partir de esa frase\, y utilizando elementos de la fiesta popular\, el juego y el ritual\, contamos la historia de Hamlet: fragmentada\, grotesca\, rota. \nProponemos una experiencia inmersiva para el público\, situada en un espacio a tres bandas. Los asistentes son invitados a participar en este injerto entre ceremonia y teatro. \nEl ejercicio pone énfasis en la lectura activa del espectador y plantea una suspensión de la convención teatral que habitualmente ocurre al final de un espectáculo. \n\nEvento de acceso libre
URL:https://teatrosucre.com/event/carnavalazo-hamlet/
LOCATION:Teatro México\, Tomebamba\, Quito 170121\, Quito\, Pichincha\, Ecuador
CATEGORIES:Teatro
ATTACH;FMTTYPE=image/jpeg:https://cdn.teatrosucre.com/wp-content/uploads/2025/06/05111657/m2go_caarnavalL.jpg
GEO:-0.2399671;-78.5186573
X-APPLE-STRUCTURED-LOCATION;VALUE=URI;X-ADDRESS=Teatro México Tomebamba Quito 170121 Quito Pichincha Ecuador;X-APPLE-RADIUS=500;X-TITLE=Tomebamba\, Quito 170121:geo:-78.5186573,-0.2399671
END:VEVENT
BEGIN:VEVENT
DTSTART;TZID=America/Guayaquil:20250617T200000
DTEND;TZID=America/Guayaquil:20250617T213000
DTSTAMP:20260422T170032
CREATED:20250518T201557Z
LAST-MODIFIED:20250522T175145Z
UID:265183-1750190400-1750195800@teatrosucre.com
SUMMARY:El Agravio de las Moscas
DESCRIPTION:La Fiesta Escénica de Quito regresa en 2025. Este año\, te invitamos a vivir la fiesta y pensar sobre la escena a través de potentes propuestas artísticas y actividades académicas. Del 12 al 29 de junio\, disfruta de una programación vibrante con destacados elencos nacionales e internacionales y sé parte de la mayor celebración del arte escénico en el Ecuador. \nCensura: 5 años\nSobre la obra\nCercano al naturalismo y al costumbrismo\, el texto desarrolla una anécdota que\, en un inicio\, parece cotidiana. El lenguaje empleado es claramente identificable como «quiteño»\, al igual que las referencias espaciales y temporales\, que\, sin ser del todo precisas o determinantes\, evocan fechas y hechos con los que el espectador puede identificarse fácilmente. Este contexto dramatúrgico es intercalado\, interrumpido —o incluso subvertido— por una serie de monólogos de alta carga poética. Estos suelen aparecer al inicio de cada escena\, en forma de apartes\, donde los personajes-actores se dirigen directamente al público con parlamentos que se acercan más a una reflexión íntima que a la acción dramática. Así\, se rompe la lógica tradicional de la representación y se desafía tanto lo natural como lo costumbrista. \nConoce más de Wambras y perros afuera aquí.\n\nEvento de acceso libre
URL:https://teatrosucre.com/event/el-agravio-de-las-moscas/
LOCATION:Teatro Variedades\, Plaza del Teatro\, Quito\, Pichincha\, Ecuador
CATEGORIES:Teatro
ATTACH;FMTTYPE=image/jpeg:https://cdn.teatrosucre.com/wp-content/uploads/2025/05/18151524/m2go_EL-AGRAVIO-DE-LAS-MOSCAS.jpg
GEO:-0.2189843;-78.5085724
X-APPLE-STRUCTURED-LOCATION;VALUE=URI;X-ADDRESS=Teatro Variedades Plaza del Teatro Quito Pichincha Ecuador;X-APPLE-RADIUS=500;X-TITLE=Plaza del Teatro:geo:-78.5085724,-0.2189843
END:VEVENT
BEGIN:VEVENT
DTSTART;TZID=America/Guayaquil:20250618T190000
DTEND;TZID=America/Guayaquil:20250618T203000
DTSTAMP:20260422T170032
CREATED:20250509T173946Z
LAST-MODIFIED:20250617T195005Z
UID:263855-1750273200-1750278600@teatrosucre.com
SUMMARY:Habitación Macbeth
DESCRIPTION:La Fiesta Escénica de Quito regresa en 2025. Este año\, te invitamos a vivir la fiesta y pensar sobre la escena a través de potentes propuestas artísticas y actividades académicas. Del 12 al 29 de junio\, disfruta de una programación vibrante con destacados elencos nacionales e internacionales y sé parte de la mayor celebración del arte escénico en el Ecuador. \nSobre Habitación Macbeth\nHabitación Macbeth es una adaptación unipersonal de la tragedia de William Shakespeare\, concebida e interpretada por Pompeyo Audivert. En escena\, Audivert da vida sucesivamente a personajes como las tres brujas del destino\, Macbeth\, Lady Macbeth y Banquo\, en un vertiginoso tránsito actoral que indaga en la identidad histórica y las pulsiones criminales que gobiernan el mundo. A través de su cuerpo y su voz\, el actor construye una experiencia teatral hipnótica que invita a reflexionar sobre la fragilidad del yo y la poderosa influencia de lo sobrenatural en el curso de la existencia humana. \nSobre Pompeyo Audivert\nPompeyo Audivert es actor\, director\, dramaturgo y docente. Desde 1990 dirige el Teatro Estudio El Cuervo\, donde imparte clases de actuación. Ha trabajado con destacados directores en obras como Esperando a Godot\, El Rey Lear y Fin de partida. Como creador integral\, ha desarrollado piezas propias como Muñeca\, Trastorno\, Edipo en Ezeiza y La farsa de los ausentes. También dirigió textos de Gambaro\, Eurípides y Marechal. Publicó el libro El piedrazo en el espejo\, sobre su técnica teatral. Actualmente presenta Habitación Macbeth\, una versión unipersonal de la tragedia de Shakespeare. \n– \n*Algunas localidades del Teatro Nacional Sucre requieren el uso de gradas para su acceso.\nPor favor\, considere lo siguiente para su movilización: \nPLATEA: 12 gradas\n2DA DE PALCOS: 15 gradas\nLUNETA: 27 gradas\nTERRAZA TNS: 24 gradas\n 
URL:https://teatrosucre.com/event/habitacion-macbeth/
LOCATION:Teatro Nacional Sucre\, Guayaquil &\, Manabi\, Quito 170401\, Quito\, Pichincha\, Ecuador
CATEGORIES:Teatro
ATTACH;FMTTYPE=image/png:https://cdn.teatrosucre.com/wp-content/uploads/2025/05/09123221/2m2go_fieq_macbeth.png
GEO:-0.2191751;-78.508865
X-APPLE-STRUCTURED-LOCATION;VALUE=URI;X-ADDRESS=Teatro Nacional Sucre Guayaquil & Manabi Quito 170401 Quito Pichincha Ecuador;X-APPLE-RADIUS=500;X-TITLE=Guayaquil &\, Manabi\, Quito 170401:geo:-78.508865,-0.2191751
END:VEVENT
BEGIN:VEVENT
DTSTART;TZID=America/Guayaquil:20250619T190000
DTEND;TZID=America/Guayaquil:20250619T200000
DTSTAMP:20260422T170032
CREATED:20250513T213626Z
LAST-MODIFIED:20250619T164041Z
UID:263754-1750359600-1750363200@teatrosucre.com
SUMMARY:Vendrán los alienígenas y tendrán tus ojos
DESCRIPTION:La Fiesta Escénica de Quito regresa en 2025. Este año\, te invitamos a vivir la fiesta y pensar sobre la escena a través de potentes propuestas artísticas y actividades académicas. Del 12 al 29 de junio\, disfruta de una programación vibrante con destacados elencos nacionales e internacionales y sé parte de la mayor celebración del arte escénico en el Ecuador. \nEdad mínima: 13 años\nSobre Vendrán los alienígenas y tendrán tus ojos\nUna mujer llega a la mediana edad como una paria emocional en el planeta Tierra. La irrupción de un nuevo amor irrumpe como un fenómeno inexplicable: un avistamiento nocturno\, un aterrizaje OVNI\, un contacto alienígena. Un acontecimiento sobrenatural que la reconecta con el pensamiento mágico y reaviva en ella la necesidad de creer en las utopías. \nSobre la directora – María Velasco\nEs Doctora en Comunicación Audiovisual por la Universidad Complutense de Madrid. Se formó en dramaturgia en la Real Escuela Superior de Arte Dramático y cuenta con un Máster en Práctica Escénica y Cultura Visual. Además\, posee formación en guión cinematográfico\, filosofía y arte. En su recorrido dentro de las artes escénicas\, ha sido alumna de destacados maestros como José Sanchis Sinisterra\, Juan Mayorga\, Alejandro Tantanián\, José Antonio Sánchez\, Óscar Cornago\, Carlos Marquerie y Enzo Cormann. Entre sus principales referentes artísticos destaca a Claudia Faci y Angélica Liddell.
URL:https://teatrosucre.com/event/vendran-los-alienigenas-y-tendran-tus-ojos/
LOCATION:Teatro Variedades\, Plaza del Teatro\, Quito\, Pichincha\, Ecuador
CATEGORIES:Teatro
ATTACH;FMTTYPE=image/png:https://cdn.teatrosucre.com/wp-content/uploads/2025/05/13122225/2m2go_fieq_alienigenas.png
GEO:-0.2189843;-78.5085724
X-APPLE-STRUCTURED-LOCATION;VALUE=URI;X-ADDRESS=Teatro Variedades Plaza del Teatro Quito Pichincha Ecuador;X-APPLE-RADIUS=500;X-TITLE=Plaza del Teatro:geo:-78.5085724,-0.2189843
END:VEVENT
END:VCALENDAR