BEGIN:VCALENDAR
VERSION:2.0
PRODID:-//Fundación Teatro Nacional Sucre - ECPv6.15.20//NONSGML v1.0//EN
CALSCALE:GREGORIAN
METHOD:PUBLISH
X-ORIGINAL-URL:https://teatrosucre.com
X-WR-CALDESC:Eventos para Fundación Teatro Nacional Sucre
REFRESH-INTERVAL;VALUE=DURATION:PT1H
X-Robots-Tag:noindex
X-PUBLISHED-TTL:PT1H
BEGIN:VTIMEZONE
TZID:America/Guayaquil
BEGIN:STANDARD
TZOFFSETFROM:-0500
TZOFFSETTO:-0500
TZNAME:-05
DTSTART:20240101T000000
END:STANDARD
END:VTIMEZONE
BEGIN:VEVENT
DTSTART;TZID=America/Guayaquil:20250313T190000
DTEND;TZID=America/Guayaquil:20250313T213000
DTSTAMP:20260422T170006
CREATED:20250225T221312Z
LAST-MODIFIED:20250228T162849Z
UID:257150-1741892400-1741901400@teatrosucre.com
SUMMARY:Ñanpi – Winiaypa y Alex Paza
DESCRIPTION:Desde Otavalo\, el Valle del Amanecer\, y Chimborazo\, el punto más cercano al sol\, surge una fusión musical que atraviesa el alma de los Andes. Winiaypa y Alex Paza se unen por primera vez en un mismo escenario para ofrecer un viaje sonoro donde la música kichwa se encuentra con influencias contemporáneas. \nEste concierto especial recorre las composiciones de ambos artistas\, combinando instrumentos ancestrales con ritmos modernos en una experiencia inmersiva. La puesta en escena integra visuales hipnotizantes y efectos especiales\, proyectando imágenes oníricas de los Andes que envolverán al público en una atmósfera mágica. \nEscúchalos aquí.\n– \n*Algunas localidades del Teatro Nacional Sucre requieren el uso de gradas para su acceso.\nPor favor\, considere lo siguiente para su movilización: \nPLATEA: 12 gradas\n2DA DE PALCOS: 15 gradas\nLUNETA: 27 gradas\nTERRAZA TNS: 24 gradas
URL:https://teatrosucre.com/event/nanpi-winiaypa-y-alex-paza/
LOCATION:Teatro Nacional Sucre\, Guayaquil &\, Manabi\, Quito 170401\, Quito\, Pichincha\, Ecuador
CATEGORIES:Danza,Música,Teatro
ATTACH;FMTTYPE=image/jpeg:https://cdn.teatrosucre.com/wp-content/uploads/2025/02/28112842/Meet2Go-Grupo-Nanpi-1.jpg
GEO:-0.2191751;-78.508865
X-APPLE-STRUCTURED-LOCATION;VALUE=URI;X-ADDRESS=Teatro Nacional Sucre Guayaquil & Manabi Quito 170401 Quito Pichincha Ecuador;X-APPLE-RADIUS=500;X-TITLE=Guayaquil &\, Manabi\, Quito 170401:geo:-78.508865,-0.2191751
END:VEVENT
BEGIN:VEVENT
DTSTART;TZID=America/Guayaquil:20250315T180000
DTEND;TZID=America/Guayaquil:20250315T193000
DTSTAMP:20260422T170006
CREATED:20250213T160513Z
LAST-MODIFIED:20250218T200952Z
UID:256138-1742061600-1742067000@teatrosucre.com
SUMMARY:Estreno "Ballet de seres Inertes"
DESCRIPTION:Este 15 de marzo\, Sin Teatro presenta una obra sin etiquetas\, que explora los procesos y sus resultados\, no siempre exitosos. La función será en el Teatro México a las 18h00. \n«Ballet de Seres Inertes» nunca debió ser una obra. Es el ensayo de una escena fallida que aborda la exploración emocional del proceso creativo\, el paso del tiempo y cómo la vida nos pone en otro lado. \nConoce más del trabajo de Sin Teatro aquí.
URL:https://teatrosucre.com/event/estreno-ballet-de-seres-inertes/
LOCATION:Teatro México\, Tomebamba\, Quito 170121\, Quito\, Pichincha\, Ecuador
CATEGORIES:Teatro
ATTACH;FMTTYPE=image/jpeg:https://cdn.teatrosucre.com/wp-content/uploads/2025/02/18150945/M2GO-1-1.jpg
GEO:-0.2399671;-78.5186573
X-APPLE-STRUCTURED-LOCATION;VALUE=URI;X-ADDRESS=Teatro México Tomebamba Quito 170121 Quito Pichincha Ecuador;X-APPLE-RADIUS=500;X-TITLE=Tomebamba\, Quito 170121:geo:-78.5186573,-0.2399671
END:VEVENT
END:VCALENDAR