BEGIN:VCALENDAR
VERSION:2.0
PRODID:-//Fundación Teatro Nacional Sucre - ECPv6.15.20//NONSGML v1.0//EN
CALSCALE:GREGORIAN
METHOD:PUBLISH
X-WR-CALNAME:Fundación Teatro Nacional Sucre
X-ORIGINAL-URL:https://teatrosucre.com
X-WR-CALDESC:Eventos para Fundación Teatro Nacional Sucre
REFRESH-INTERVAL;VALUE=DURATION:PT1H
X-Robots-Tag:noindex
X-PUBLISHED-TTL:PT1H
BEGIN:VTIMEZONE
TZID:America/Guayaquil
BEGIN:STANDARD
TZOFFSETFROM:-0500
TZOFFSETTO:-0500
TZNAME:-05
DTSTART:20220101T000000
END:STANDARD
END:VTIMEZONE
BEGIN:VEVENT
DTSTART;TZID=America/Guayaquil:20230224T193000
DTEND;TZID=America/Guayaquil:20230224T210000
DTSTAMP:20260420T020313
CREATED:20230119T153600Z
LAST-MODIFIED:20230227T213120Z
UID:172466-1677267000-1677272400@teatrosucre.com
SUMMARY:El Espantapájaros
DESCRIPTION:Un Espantapájaros mira el mundo desde su colina. Desde ahí se cuestiona con respecto a si es capaz de cambiar su naturaleza. Los Espantapájaros espantan pájaros\, no caminan\, no cantan\, no escriben\, no aman. \nEsta obra del grupo Deus Ex Machina trata sobre un hombre\, que ante la soledad\, revive los recuerdos de un pasado cercano. En su imaginario recorre las escenas como si fuese un espantapájaros e intentando reconocer su mundo interno\, les da vida a los personajes que en algún momento fueron parte de su existencia. Su naturaleza y su accionar se le presentan como un condicionante\, y se patenta el deseo de querer modificarla.
URL:https://teatrosucre.com/event/el-espantapajaros-3/
LOCATION:Teatro Nacional Sucre\, Guayaquil &\, Manabi\, Quito 170401\, Quito\, Pichincha\, Ecuador
CATEGORIES:Teatro
ATTACH;FMTTYPE=image/jpeg:https://cdn.teatrosucre.com/wp-content/uploads/2023/01/13102615/Meet2Go-Espantapajaros2-scaled.jpg
GEO:-0.2191751;-78.508865
X-APPLE-STRUCTURED-LOCATION;VALUE=URI;X-ADDRESS=Teatro Nacional Sucre Guayaquil & Manabi Quito 170401 Quito Pichincha Ecuador;X-APPLE-RADIUS=500;X-TITLE=Guayaquil &\, Manabi\, Quito 170401:geo:-78.508865,-0.2191751
END:VEVENT
BEGIN:VEVENT
DTSTART;TZID=America/Guayaquil:20230225T193000
DTEND;TZID=America/Guayaquil:20230225T210000
DTSTAMP:20260420T020313
CREATED:20230119T154342Z
LAST-MODIFIED:20230119T154342Z
UID:172474-1677353400-1677358800@teatrosucre.com
SUMMARY:El Espantapájaros
DESCRIPTION:Un Espantapájaros mira el mundo desde su colina. Desde ahí se cuestiona con respecto a si es capaz de cambiar su naturaleza. Los Espantapájaros espantan pájaros\, no caminan\, no cantan\, no escriben\, no aman. \nEsta obra del grupo Deus Ex Machina trata sobre un hombre\, que ante la soledad\, revive los recuerdos de un pasado cercano. En su imaginario recorre las escenas como si fuese un espantapájaros e intentando reconocer su mundo interno\, les da vida a los personajes que en algún momento fueron parte de su existencia. Su naturaleza y su accionar se le presentan como un condicionante\, y se patenta el deseo de querer modificarla.
URL:https://teatrosucre.com/event/el-espantapajaros-4/
LOCATION:Teatro Nacional Sucre\, Guayaquil &\, Manabi\, Quito 170401\, Quito\, Pichincha\, Ecuador
CATEGORIES:Teatro
ATTACH;FMTTYPE=image/jpeg:https://cdn.teatrosucre.com/wp-content/uploads/2023/01/13102630/Meet2Go-Espantapajaros-scaled.jpg
GEO:-0.2191751;-78.508865
X-APPLE-STRUCTURED-LOCATION;VALUE=URI;X-ADDRESS=Teatro Nacional Sucre Guayaquil & Manabi Quito 170401 Quito Pichincha Ecuador;X-APPLE-RADIUS=500;X-TITLE=Guayaquil &\, Manabi\, Quito 170401:geo:-78.508865,-0.2191751
END:VEVENT
END:VCALENDAR