BEGIN:VCALENDAR
VERSION:2.0
PRODID:-//Fundación Teatro Nacional Sucre - ECPv6.15.20//NONSGML v1.0//EN
CALSCALE:GREGORIAN
METHOD:PUBLISH
X-ORIGINAL-URL:https://teatrosucre.com
X-WR-CALDESC:Eventos para Fundación Teatro Nacional Sucre
REFRESH-INTERVAL;VALUE=DURATION:PT1H
X-Robots-Tag:noindex
X-PUBLISHED-TTL:PT1H
BEGIN:VTIMEZONE
TZID:America/Guayaquil
BEGIN:STANDARD
TZOFFSETFROM:-0500
TZOFFSETTO:-0500
TZNAME:-05
DTSTART:20210101T000000
END:STANDARD
END:VTIMEZONE
BEGIN:VEVENT
DTSTART;TZID=America/Guayaquil:20220501T180000
DTEND;TZID=America/Guayaquil:20220501T193000
DTSTAMP:20260425T100017
CREATED:20220406T154647Z
LAST-MODIFIED:20240206T212724Z
UID:153354-1651428000-1651433400@teatrosucre.com
SUMMARY:El Percusionista
DESCRIPTION:El Percusionista sorprende por la universalidad\, contemporaneidad y virtuosismo de sus expresiones. Estrenada en 2008\, fue galardonada como mejor espectáculo por la asociación de prensa de Guinea Ecuatorial. Combina técnicas y dinámicas ancestrales de la etnia Fang\, fusionando narración\, danza\, percusión\, cantos ancestrales.    \nEl espectador se siente transportado al abáa – la casa de la palabra- el lugar de encuentro: un lugar dónde no existen espectadores pasivos\, un sitio en el cual –como se dice en escena– “el tiempo no se gana ni se pierde: se comparte”. Narra historias de abuelos. Esencialmente\, El Percusionista reúne las condiciones de la tradición cultural africana: informa\, forma divierte y conmueve. \nGORSY EDÚ. Actor\, coreógrafo\, bailarín\, ha trabajado con directores connotados. En cine\, es protagonista de los largometrajes Querida Bamako y la Causa de kripán de Omer Oke. Dirigió el proyecto pedagógico Edu´Art. Se presenta en Europa\, América y Africa.
URL:https://teatrosucre.com/event/el-percusionista-2/
LOCATION:Teatro Nacional Sucre\, Guayaquil &\, Manabi\, Quito 170401\, Quito\, Pichincha\, Ecuador
CATEGORIES:Teatro
ATTACH;FMTTYPE=image/png:https://cdn.teatrosucre.com/wp-content/uploads/2022/04/13103601/Meet-to-Go-El-Percusionista.png
GEO:-0.2191751;-78.508865
X-APPLE-STRUCTURED-LOCATION;VALUE=URI;X-ADDRESS=Teatro Nacional Sucre Guayaquil & Manabi Quito 170401 Quito Pichincha Ecuador;X-APPLE-RADIUS=500;X-TITLE=Guayaquil &\, Manabi\, Quito 170401:geo:-78.508865,-0.2191751
END:VEVENT
END:VCALENDAR