BEGIN:VCALENDAR
VERSION:2.0
PRODID:-//Fundación Teatro Nacional Sucre - ECPv6.15.20//NONSGML v1.0//EN
CALSCALE:GREGORIAN
METHOD:PUBLISH
X-ORIGINAL-URL:https://teatrosucre.com
X-WR-CALDESC:Eventos para Fundación Teatro Nacional Sucre
REFRESH-INTERVAL;VALUE=DURATION:PT1H
X-Robots-Tag:noindex
X-PUBLISHED-TTL:PT1H
BEGIN:VTIMEZONE
TZID:America/Guayaquil
BEGIN:STANDARD
TZOFFSETFROM:-0500
TZOFFSETTO:-0500
TZNAME:-05
DTSTART:20210101T000000
END:STANDARD
END:VTIMEZONE
BEGIN:VEVENT
DTSTART;TZID=America/Guayaquil:20220513T193000
DTEND;TZID=America/Guayaquil:20220513T210000
DTSTAMP:20260424T200711
CREATED:20220421T205515Z
LAST-MODIFIED:20220421T205741Z
UID:153579-1652470200-1652475600@teatrosucre.com
SUMMARY:El Ciudadano 1
DESCRIPTION:El Ciudadano es un superhéroe caído en desgracia que ha perdido al amor de su vida por un “error” en su rol de justiciero. Se aísla del mundo y en medio de la soledad en la que decide vivir se pregunta: cuál es su papel en ese mundo aparentemente normal en el que vive\, qué es realmente la justicia y cuál es el precio que se debe pagar por ella.
URL:https://teatrosucre.com/event/el-ciudadano-1/
LOCATION:Teatro Variedades\, Plaza del Teatro\, Quito\, Pichincha\, Ecuador
CATEGORIES:Teatro
ATTACH;FMTTYPE=image/jpeg:https://cdn.teatrosucre.com/wp-content/uploads/2022/04/13103543/m2g_elciudadano.jpg
GEO:-0.2189843;-78.5085724
X-APPLE-STRUCTURED-LOCATION;VALUE=URI;X-ADDRESS=Teatro Variedades Plaza del Teatro Quito Pichincha Ecuador;X-APPLE-RADIUS=500;X-TITLE=Plaza del Teatro:geo:-78.5085724,-0.2189843
END:VEVENT
END:VCALENDAR