BEGIN:VCALENDAR
VERSION:2.0
PRODID:-//Fundación Teatro Nacional Sucre - ECPv6.15.20//NONSGML v1.0//EN
CALSCALE:GREGORIAN
METHOD:PUBLISH
X-WR-CALNAME:Fundación Teatro Nacional Sucre
X-ORIGINAL-URL:https://teatrosucre.com
X-WR-CALDESC:Eventos para Fundación Teatro Nacional Sucre
REFRESH-INTERVAL;VALUE=DURATION:PT1H
X-Robots-Tag:noindex
X-PUBLISHED-TTL:PT1H
BEGIN:VTIMEZONE
TZID:America/Guayaquil
BEGIN:STANDARD
TZOFFSETFROM:-0500
TZOFFSETTO:-0500
TZNAME:-05
DTSTART:20240101T000000
END:STANDARD
END:VTIMEZONE
BEGIN:VEVENT
DTSTART;TZID=America/Guayaquil:20250313T190000
DTEND;TZID=America/Guayaquil:20250313T213000
DTSTAMP:20260423T062300
CREATED:20250225T221312Z
LAST-MODIFIED:20250228T162849Z
UID:257150-1741892400-1741901400@teatrosucre.com
SUMMARY:Ñanpi – Winiaypa y Alex Paza
DESCRIPTION:Desde Otavalo\, el Valle del Amanecer\, y Chimborazo\, el punto más cercano al sol\, surge una fusión musical que atraviesa el alma de los Andes. Winiaypa y Alex Paza se unen por primera vez en un mismo escenario para ofrecer un viaje sonoro donde la música kichwa se encuentra con influencias contemporáneas. \nEste concierto especial recorre las composiciones de ambos artistas\, combinando instrumentos ancestrales con ritmos modernos en una experiencia inmersiva. La puesta en escena integra visuales hipnotizantes y efectos especiales\, proyectando imágenes oníricas de los Andes que envolverán al público en una atmósfera mágica. \nEscúchalos aquí.\n– \n*Algunas localidades del Teatro Nacional Sucre requieren el uso de gradas para su acceso.\nPor favor\, considere lo siguiente para su movilización: \nPLATEA: 12 gradas\n2DA DE PALCOS: 15 gradas\nLUNETA: 27 gradas\nTERRAZA TNS: 24 gradas
URL:https://teatrosucre.com/event/nanpi-winiaypa-y-alex-paza/
LOCATION:Teatro Nacional Sucre\, Guayaquil &\, Manabi\, Quito 170401\, Quito\, Pichincha\, Ecuador
CATEGORIES:Danza,Música,Teatro
ATTACH;FMTTYPE=image/jpeg:https://cdn.teatrosucre.com/wp-content/uploads/2025/02/28112842/Meet2Go-Grupo-Nanpi-1.jpg
GEO:-0.2191751;-78.508865
X-APPLE-STRUCTURED-LOCATION;VALUE=URI;X-ADDRESS=Teatro Nacional Sucre Guayaquil & Manabi Quito 170401 Quito Pichincha Ecuador;X-APPLE-RADIUS=500;X-TITLE=Guayaquil &\, Manabi\, Quito 170401:geo:-78.508865,-0.2191751
END:VEVENT
BEGIN:VEVENT
DTSTART;TZID=America/Guayaquil:20250315T180000
DTEND;TZID=America/Guayaquil:20250315T193000
DTSTAMP:20260423T062300
CREATED:20250213T160513Z
LAST-MODIFIED:20250218T200952Z
UID:256138-1742061600-1742067000@teatrosucre.com
SUMMARY:Estreno "Ballet de seres Inertes"
DESCRIPTION:Este 15 de marzo\, Sin Teatro presenta una obra sin etiquetas\, que explora los procesos y sus resultados\, no siempre exitosos. La función será en el Teatro México a las 18h00. \n«Ballet de Seres Inertes» nunca debió ser una obra. Es el ensayo de una escena fallida que aborda la exploración emocional del proceso creativo\, el paso del tiempo y cómo la vida nos pone en otro lado. \nConoce más del trabajo de Sin Teatro aquí.
URL:https://teatrosucre.com/event/estreno-ballet-de-seres-inertes/
LOCATION:Teatro México\, Tomebamba\, Quito 170121\, Quito\, Pichincha\, Ecuador
CATEGORIES:Teatro
ATTACH;FMTTYPE=image/jpeg:https://cdn.teatrosucre.com/wp-content/uploads/2025/02/18150945/M2GO-1-1.jpg
GEO:-0.2399671;-78.5186573
X-APPLE-STRUCTURED-LOCATION;VALUE=URI;X-ADDRESS=Teatro México Tomebamba Quito 170121 Quito Pichincha Ecuador;X-APPLE-RADIUS=500;X-TITLE=Tomebamba\, Quito 170121:geo:-78.5186573,-0.2399671
END:VEVENT
BEGIN:VEVENT
DTSTART;TZID=America/Guayaquil:20250320T190000
DTEND;TZID=America/Guayaquil:20250320T203000
DTSTAMP:20260423T062300
CREATED:20250224T151301Z
LAST-MODIFIED:20250321T213648Z
UID:256568-1742497200-1742502600@teatrosucre.com
SUMMARY:La melancolía del turista
DESCRIPTION:La Cía. Oligor y Microscopía presenta «La melancolía del turista»\, una obra intima e inmersiva para el público nacional. Podrás verla este jueves\, 20 de marzo\, a las 19h00\, en el escenario del Teatro Nacional Sucre. \nUn viaje íntimo a través de los vestigios de un paraíso imaginado. Esta puesta en escena descompone instantes y objetos que construyen —y desmoronan— la fantasía del descanso perfecto. Entre luces y sombras\, mecanismos frágiles e imágenes analógicas\, la memoria se pliega en un teatrito-cine delicado\, donde la nostalgia es un espejo de lo que nunca existió o ya se ha desvanecido. \nCon un aforo limitado a 42 espectadores\, La melancolía del turista es un juego de ensoñaciones que nos devuelve al momento en que todos nuestros juguetes estaban vivos. Un espectáculo poético que cuestiona la vida de las imágenes y nos invita a reinventarnos en el intervalo de un parpadeo. \n*Algunas localidades del Teatro Nacional Sucre requieren el uso de gradas para su acceso.\nPor favor\, considere lo siguiente para su movilización: \nPLATEA: 12 gradas\n2DA DE PALCOS: 15 gradas\nLUNETA: 27 gradas\nTERRAZA TNS: 24 gradas
URL:https://teatrosucre.com/event/la-melancolia-del-turista/
LOCATION:Teatro Nacional Sucre\, Guayaquil &\, Manabi\, Quito 170401\, Quito\, Pichincha\, Ecuador
CATEGORIES:Teatro
ATTACH;FMTTYPE=image/jpeg:https://cdn.teatrosucre.com/wp-content/uploads/2025/02/20165637/MELANCOLIA-M2GO.jpg
GEO:-0.2191751;-78.508865
X-APPLE-STRUCTURED-LOCATION;VALUE=URI;X-ADDRESS=Teatro Nacional Sucre Guayaquil & Manabi Quito 170401 Quito Pichincha Ecuador;X-APPLE-RADIUS=500;X-TITLE=Guayaquil &\, Manabi\, Quito 170401:geo:-78.508865,-0.2191751
END:VEVENT
BEGIN:VEVENT
DTSTART;TZID=America/Guayaquil:20250321T190000
DTEND;TZID=America/Guayaquil:20250321T203000
DTSTAMP:20260423T062300
CREATED:20250224T151936Z
LAST-MODIFIED:20250321T213639Z
UID:256569-1742583600-1742589000@teatrosucre.com
SUMMARY:La melancolía del turista
DESCRIPTION:La Cía. Oligor y Microscopía presenta «La melancolía del turista»\, una obra intima e inmersiva para el público nacional. Podrás verla este viernes\, 21 de marzo\, a las 19h00\, en el escenario del Teatro Nacional Sucre. \nUn viaje íntimo a través de los vestigios de un paraíso imaginado. Esta puesta en escena descompone instantes y objetos que construyen —y desmoronan— la fantasía del descanso perfecto. Entre luces y sombras\, mecanismos frágiles e imágenes analógicas\, la memoria se pliega en un teatrito-cine delicado\, donde la nostalgia es un espejo de lo que nunca existió o ya se ha desvanecido. \nCon un aforo limitado a 42 espectadores\, La melancolía del turista es un juego de ensoñaciones que nos devuelve al momento en que todos nuestros juguetes estaban vivos. Un espectáculo poético que cuestiona la vida de las imágenes y nos invita a reinventarnos en el intervalo de un parpadeo. \n*Algunas localidades del Teatro Nacional Sucre requieren el uso de gradas para su acceso.\nPor favor\, considere lo siguiente para su movilización: \nPLATEA: 12 gradas\n2DA DE PALCOS: 15 gradas\nLUNETA: 27 gradas\nTERRAZA TNS: 24 gradas
URL:https://teatrosucre.com/event/la-melancolia-del-turista-2/
LOCATION:Teatro Nacional Sucre\, Guayaquil &\, Manabi\, Quito 170401\, Quito\, Pichincha\, Ecuador
CATEGORIES:Teatro
ATTACH;FMTTYPE=image/jpeg:https://cdn.teatrosucre.com/wp-content/uploads/2025/02/20165637/MELANCOLIA-M2GO.jpg
GEO:-0.2191751;-78.508865
X-APPLE-STRUCTURED-LOCATION;VALUE=URI;X-ADDRESS=Teatro Nacional Sucre Guayaquil & Manabi Quito 170401 Quito Pichincha Ecuador;X-APPLE-RADIUS=500;X-TITLE=Guayaquil &\, Manabi\, Quito 170401:geo:-78.508865,-0.2191751
END:VEVENT
BEGIN:VEVENT
DTSTART;TZID=America/Guayaquil:20250322T160000
DTEND;TZID=America/Guayaquil:20250322T173000
DTSTAMP:20260423T062300
CREATED:20250224T152506Z
LAST-MODIFIED:20250321T213632Z
UID:256570-1742659200-1742664600@teatrosucre.com
SUMMARY:La melancolía del turista
DESCRIPTION:La Cía. Oligor y Microscopía presenta «La melancolía del turista»\, una obra intima e inmersiva para el público nacional. Podrás verla este sábado\, 22 de marzo\, a las 16h00\, en el escenario del Teatro Nacional Sucre. \nUn viaje íntimo a través de los vestigios de un paraíso imaginado. Esta puesta en escena descompone instantes y objetos que construyen —y desmoronan— la fantasía del descanso perfecto. Entre luces y sombras\, mecanismos frágiles e imágenes analógicas\, la memoria se pliega en un teatrito-cine delicado\, donde la nostalgia es un espejo de lo que nunca existió o ya se ha desvanecido. \nCon un aforo limitado a 42 espectadores\, La melancolía del turista es un juego de ensoñaciones que nos devuelve al momento en que todos nuestros juguetes estaban vivos. Un espectáculo poético que cuestiona la vida de las imágenes y nos invita a reinventarnos en el intervalo de un parpadeo. \n*Algunas localidades del Teatro Nacional Sucre requieren el uso de gradas para su acceso.\nPor favor\, considere lo siguiente para su movilización: \nPLATEA: 12 gradas\n2DA DE PALCOS: 15 gradas\nLUNETA: 27 gradas\nTERRAZA TNS: 24 gradas
URL:https://teatrosucre.com/event/la-melancolia-del-turista-3/
LOCATION:Teatro Nacional Sucre\, Guayaquil &\, Manabi\, Quito 170401\, Quito\, Pichincha\, Ecuador
CATEGORIES:Teatro
ATTACH;FMTTYPE=image/jpeg:https://cdn.teatrosucre.com/wp-content/uploads/2025/02/20165637/MELANCOLIA-M2GO.jpg
GEO:-0.2191751;-78.508865
X-APPLE-STRUCTURED-LOCATION;VALUE=URI;X-ADDRESS=Teatro Nacional Sucre Guayaquil & Manabi Quito 170401 Quito Pichincha Ecuador;X-APPLE-RADIUS=500;X-TITLE=Guayaquil &\, Manabi\, Quito 170401:geo:-78.508865,-0.2191751
END:VEVENT
BEGIN:VEVENT
DTSTART;TZID=America/Guayaquil:20250323T160000
DTEND;TZID=America/Guayaquil:20250323T173000
DTSTAMP:20260423T062300
CREATED:20250224T152926Z
LAST-MODIFIED:20250321T213623Z
UID:256571-1742745600-1742751000@teatrosucre.com
SUMMARY:La melancolía del turista
DESCRIPTION:La Cía. Oligor y Microscopía presenta «La melancolía del turista»\, una obra intima e inmersiva para el público nacional. Podrás verla este domingo\, 23 de marzo\, a las 16h00\, en el escenario del Teatro Nacional Sucre. \nUn viaje íntimo a través de los vestigios de un paraíso imaginado. Esta puesta en escena descompone instantes y objetos que construyen —y desmoronan— la fantasía del descanso perfecto. Entre luces y sombras\, mecanismos frágiles e imágenes analógicas\, la memoria se pliega en un teatrito-cine delicado\, donde la nostalgia es un espejo de lo que nunca existió o ya se ha desvanecido. \nCon un aforo limitado a 42 espectadores\, La melancolía del turista es un juego de ensoñaciones que nos devuelve al momento en que todos nuestros juguetes estaban vivos. Un espectáculo poético que cuestiona la vida de las imágenes y nos invita a reinventarnos en el intervalo de un parpadeo. \n*Algunas localidades del Teatro Nacional Sucre requieren el uso de gradas para su acceso.\nPor favor\, considere lo siguiente para su movilización: \nPLATEA: 12 gradas\n2DA DE PALCOS: 15 gradas\nLUNETA: 27 gradas\nTERRAZA TNS: 24 gradas
URL:https://teatrosucre.com/event/la-melancolia-del-turista-4/
LOCATION:Teatro Nacional Sucre\, Guayaquil &\, Manabi\, Quito 170401\, Quito\, Pichincha\, Ecuador
CATEGORIES:Teatro
ATTACH;FMTTYPE=image/jpeg:https://cdn.teatrosucre.com/wp-content/uploads/2025/02/20165637/MELANCOLIA-M2GO.jpg
GEO:-0.2191751;-78.508865
X-APPLE-STRUCTURED-LOCATION;VALUE=URI;X-ADDRESS=Teatro Nacional Sucre Guayaquil & Manabi Quito 170401 Quito Pichincha Ecuador;X-APPLE-RADIUS=500;X-TITLE=Guayaquil &\, Manabi\, Quito 170401:geo:-78.508865,-0.2191751
END:VEVENT
BEGIN:VEVENT
DTSTART;TZID=America/Guayaquil:20250328T190000
DTEND;TZID=America/Guayaquil:20250328T203000
DTSTAMP:20260423T062300
CREATED:20250225T214953Z
LAST-MODIFIED:20250401T204056Z
UID:257142-1743188400-1743193800@teatrosucre.com
SUMMARY:De Cómo Murió el Teatro - Gira Nacional
DESCRIPTION:‘De Cómo Murió el Teatro’ es una propuesta escénica de lenguajes múltiples del Colectivo Yama\, bajo la dirección de Carlina Derks Bustamante. A través de esta obra\, se documentan\, ficcionan y ritualizan las memorias del teatro ecuatoriano en tiempos de pandemia. \nEl Teatro ha muerto\, perdido entre el olvido y la virtualidad de un tiempo sin encuentro. Su ausencia convoca a un grupo de actores y actrices a reunirse en la clandestinidad de una sala vacía. En este espacio\, entre la nostalgia y la resistencia\, le ofrecerán un último rito de despedida. \nCréditos\nConcepto\, Dramaturgia y Dirección\n\nDirección: Carlina Derks Bustamante\nAsistentes de Dirección: Natalia Ortiz & Rosa Amelia Poveda\n\nElenco\nActrices y Actores Creadorxs:Carlos Michelena\, Juana Guarderas\, Gerson Guerra\, Daniel Moreno\, Paulina Sánchez\, Toño Harris\, Ilyari Derks\, Natalia Ortiz y Adriana Camacho \nEquipo Artístico\n\nCoreógrafas: Rosa Amelia Poveda y Tani Revelo Flor\nDirección de Arte: Fernando Derks\nAsistente de Arte: Carlina Derks\nCreación de Máscaras: Paul Colinó y Vicente Paredes\nConstrucción de Tarimas y Ataúd: Edison Ponce y Luis Terán\nConfección de Vestuarios: Sandra Páez\nTelón “Los Nadiens”: El Miche\n\nMúsica\, Iluminación y Diseño\n\nDirección Musical: Ilyari Derks\nDiseño de Iluminación y Mapping: Gerson Guerra\nDiseño Gráfico: Matías Angulo\n\nInvestigación y Documentación\n\nInvestigación: María Fernanda Cartagena\, Natalia Ortiz y Carlina Derks\nFilmación de Entrevistas: Kiril Sychov\nEntrevistas realizadas a: Adriana Oña\, Nixon García\, Tanya Sánchez\, Matías Belmar\, Rosa Mosquera\, Quito Eterno\, Colectivo Yama\, Clowndestinos\, Geson Guerra\, Juana Guarderas\, Carlos Michelena\, Humor y Vida\nEdición de Videos: Julio César Gonzales\, Carlina Derks y Kyril Sychov\nPersonas que aparecen en los videos: Martha Ormaza\, Gerson Guerra\, Aristides Vargas\n\nProducción\n\nProducción General: Colectivo Yama\n\nEn Memoria de\nHarrie Derks\, Miguel Ángel Nue\, Quique Valdez\, Martha Ormaza\, Susana Pautaso\, Giovanni Copianno\, María Jacinta Almeida\, Rita Vera Morán\, Sonia Figueroa de Tipán\, María Graciela Robayo\, Nancy Peñaherrera\, Guillermo Venegas\, Sheyla Cristina Rosado\, Filique Böttcher\, Rosita Soria\, Raúl Guarderas\, Santiago Harris\, Aida Espinoza\, César Hermida\, Laura Bustos\, Luis Sánchez. \n– \n*Algunas localidades del Teatro Nacional Sucre requieren el uso de gradas para su acceso.\nPor favor\, considere lo siguiente para su movilización: \nPLATEA: 12 gradas\n2DA DE PALCOS: 15 gradas\nLUNETA: 27 gradas\nTERRAZA TNS: 24 gradas\n\n📋 Esta obra fue seleccionada dentro de la convocatoria pública de Coproducciones de la Fundación Teatro Nacional Sucre.  \nMás información aquí.
URL:https://teatrosucre.com/event/de-como-murio-el-teatro-gira-nacional/
LOCATION:Teatro Nacional Sucre\, Guayaquil &\, Manabi\, Quito 170401\, Quito\, Pichincha\, Ecuador
CATEGORIES:Música,Teatro
ATTACH;FMTTYPE=image/jpeg:https://cdn.teatrosucre.com/wp-content/uploads/2025/02/25164356/m2go-6.jpg
GEO:-0.2191751;-78.508865
X-APPLE-STRUCTURED-LOCATION;VALUE=URI;X-ADDRESS=Teatro Nacional Sucre Guayaquil & Manabi Quito 170401 Quito Pichincha Ecuador;X-APPLE-RADIUS=500;X-TITLE=Guayaquil &\, Manabi\, Quito 170401:geo:-78.508865,-0.2191751
END:VEVENT
BEGIN:VEVENT
DTSTART;TZID=America/Guayaquil:20250329T190000
DTEND;TZID=America/Guayaquil:20250329T203000
DTSTAMP:20260423T062300
CREATED:20250218T173818Z
LAST-MODIFIED:20250228T214027Z
UID:256137-1743274800-1743280200@teatrosucre.com
SUMMARY:Obra: “Pérfida” (Juguete escénico voodoo)
DESCRIPTION:«Pérfida» es una obra de la directora Silvia Brito. Este monólogo de Aleja Ponce Vargas será presentado el 29 de marzo\, a las 19h00\, en el Teatro Variedades.  \nEste es un monólogo mordaz que\, a través del teatro gestual y el cabaret latinoamericano\, desmonta con humor las estructuras del patriarcado. En un desfile monstruoso y seductor\, la protagonista encarna las múltiples facetas de la condición femenina y\, en última instancia\, de la condición humana. \nIrreverente y conmovedor\, Pérfida juega con los límites entre la risa y la reflexión\, la seducción y el horror\, desafiando al público a mirarse en un espejo tan grotesco como fascinante.
URL:https://teatrosucre.com/event/obra-perfida-juguete-escenico-voodoo/
LOCATION:Teatro Variedades\, Plaza del Teatro\, Quito\, Pichincha\, Ecuador
CATEGORIES:Teatro
ATTACH;FMTTYPE=image/jpeg:https://cdn.teatrosucre.com/wp-content/uploads/2025/02/28163958/f.jpg
GEO:-0.2189843;-78.5085724
X-APPLE-STRUCTURED-LOCATION;VALUE=URI;X-ADDRESS=Teatro Variedades Plaza del Teatro Quito Pichincha Ecuador;X-APPLE-RADIUS=500;X-TITLE=Plaza del Teatro:geo:-78.5085724,-0.2189843
END:VEVENT
BEGIN:VEVENT
DTSTART;TZID=America/Guayaquil:20250330T160000
DTEND;TZID=America/Guayaquil:20250330T180000
DTSTAMP:20260423T062300
CREATED:20250307T213636Z
LAST-MODIFIED:20250307T213636Z
UID:257351-1743350400-1743357600@teatrosucre.com
SUMMARY:Residencia de Creadoras Sonoras: Un Espacio de encuentro y diálogo en el Marco del 8M
DESCRIPTION:En el marco de la conmemoración del Día Internacional de la Mujer (8M)\, la Fundación Teatro Nacional Sucre presenta la Residencia de Creadoras Sonoras\, un espacio diseñado para celebrar y potenciar el papel activo de las mujeres en la música y el arte sonoro. Esta iniciativa busca reafirmar su lugar como agentes de cambio en el ámbito cultural\, brindando un entorno donde puedan explorar\, crear y liderar desde sus propias voces y experiencias. \nLa residencia se concibe como un encuentro intergeneracional y colaborativo que reúne a tres destacadas creadoras sonoras con artistas en formación o emergentes. A través de conversatorios\, talleres y espacios de intercambio de saberes\, se fomenta un diálogo constructivo que trasciende lo técnico y lo creativo para visibilizar estrategias de resiliencia\, redes de sororidad y prácticas innovadoras que han permitido a las mujeres abrirse camino en la industria musical y las artes sonoras del Ecuador. \nEste programa\, alineado con la misión de la Fundación Teatro Nacional Sucre de promover la diversidad y la innovación en las artes\, se enfoca en fortalecer la autonomía y la capacidad creativa de las participantes. Al conectar experiencia con nuevas perspectivas\, la residencia se convierte en un espacio colectivo donde el sonido y la música son herramientas para construir narrativas propias y transformar los espacios culturales desde una mirada inclusiva y equitativa. \nLa Residencia de Creadoras Sonoras es\, en esencia\, una celebración de la agencia creativa de las mujeres y un reconocimiento a su capacidad para liderar y transformar el panorama cultural. Un espacio donde el arte sonoro resuena con fuerza\, marcando nuevas rutas para la expresión y la igualdad de género. \n\nLa residencia tendrá un concierto de finalización el próximo 30 de marzo\, denominado Concierto: mujeres creadoras TNS\, y tendrá la participación de las artistas participantes en la residencia. \nEl aforo será reducido y podrás disfrutar de él en la intimidad del Teatro Nacional Sucre y su escenario\, por lo cual\, al momento de comprar tu entrada\, no tendrás la opción de elegir butacas.
URL:https://teatrosucre.com/event/residencia-de-creadoras-sonoras-un-espacio-de-encuentro-y-dialogo-en-el-marco-del-8m/
LOCATION:Teatro Nacional Sucre\, Guayaquil &\, Manabi\, Quito 170401\, Quito\, Pichincha\, Ecuador
CATEGORIES:Música,Teatro
ATTACH;FMTTYPE=image/jpeg:https://cdn.teatrosucre.com/wp-content/uploads/2025/03/07163419/30marzo-concierto-creadoras_M2GO.jpg
GEO:-0.2191751;-78.508865
X-APPLE-STRUCTURED-LOCATION;VALUE=URI;X-ADDRESS=Teatro Nacional Sucre Guayaquil & Manabi Quito 170401 Quito Pichincha Ecuador;X-APPLE-RADIUS=500;X-TITLE=Guayaquil &\, Manabi\, Quito 170401:geo:-78.508865,-0.2191751
END:VEVENT
END:VCALENDAR