BEGIN:VCALENDAR
VERSION:2.0
PRODID:-//Fundación Teatro Nacional Sucre - ECPv6.15.20//NONSGML v1.0//EN
CALSCALE:GREGORIAN
METHOD:PUBLISH
X-ORIGINAL-URL:https://teatrosucre.com
X-WR-CALDESC:Eventos para Fundación Teatro Nacional Sucre
REFRESH-INTERVAL;VALUE=DURATION:PT1H
X-Robots-Tag:noindex
X-PUBLISHED-TTL:PT1H
BEGIN:VTIMEZONE
TZID:America/Guayaquil
BEGIN:STANDARD
TZOFFSETFROM:-0500
TZOFFSETTO:-0500
TZNAME:-05
DTSTART:20210101T000000
END:STANDARD
END:VTIMEZONE
BEGIN:VEVENT
DTSTART;TZID=America/Guayaquil:20220423T190000
DTEND;TZID=America/Guayaquil:20220423T213000
DTSTAMP:20260424T195518
CREATED:20220331T160912Z
LAST-MODIFIED:20220413T170644Z
UID:153293-1650740400-1650749400@teatrosucre.com
SUMMARY:Nuestro pueblo
DESCRIPTION:Nuestro Pueblo es una obra de teatro clásico de gran formato de Thornton Wilder\, autor imprescindible dentro de la literatura y dramaturgia mundial\, ganador del Premio Pulitzer en el año de 1938. \nEsta obra narra la cotidianidad de la vida de un pueblo norteamericano cuyos personajes transitan la historia de su tiempo y espacio para mostrarnos el verdadero significado de la vida\, el amor y la muerte y la necesidad de los seres humanos de vivir en comunidad. \nNuestro Pueblo se produce por primera vez en Ecuador por Proyecto Pendiente\, cuenta con un elenco de actores de gran trayectoria y reconocimiento como Alex Cisneros\, Juana Guarderas\, Armando Rivas\, Salomé Velasco\, Jorge Alejandro Fegan\, Nadyezhda Loza\, Diego Luna\, Julia Lozada\, Xavier Nacaza\, Patrick Valembois\, dirigidos por Alejandro Aulestia\, uno de los más jóvenes y prometedores directores y guionistas del país\, ganador del Premio Medardo Ángel Silva y autor de varios artículos educativos sobre cine y escritura de guión.
URL:https://teatrosucre.com/event/nuestro-pueblo/
LOCATION:Teatro Nacional Sucre\, Guayaquil &\, Manabi\, Quito 170401\, Quito\, Pichincha\, Ecuador
CATEGORIES:Teatro
ATTACH;FMTTYPE=image/jpeg:https://cdn.teatrosucre.com/wp-content/uploads/2022/03/13103549/WhatsApp-Image-2022-04-13-at-12.04.16-PM.jpeg
GEO:-0.2191751;-78.508865
X-APPLE-STRUCTURED-LOCATION;VALUE=URI;X-ADDRESS=Teatro Nacional Sucre Guayaquil & Manabi Quito 170401 Quito Pichincha Ecuador;X-APPLE-RADIUS=500;X-TITLE=Guayaquil &\, Manabi\, Quito 170401:geo:-78.508865,-0.2191751
END:VEVENT
BEGIN:VEVENT
DTSTART;TZID=America/Guayaquil:20220430T190000
DTEND;TZID=America/Guayaquil:20220430T203000
DTSTAMP:20260424T195518
CREATED:20220406T154032Z
LAST-MODIFIED:20220406T154032Z
UID:153346-1651345200-1651350600@teatrosucre.com
SUMMARY:El Percusionista
DESCRIPTION:El Percusionista sorprende por la universalidad\, contemporaneidad y virtuosismo de sus expresiones. Estrenada en 2008\, fue galardonada como mejor espectáculo por la asociación de prensa de Guinea Ecuatorial. Combina técnicas y dinámicas ancestrales de la etnia Fang\, fusionando narración\, danza\, percusión\, cantos ancestrales. \nEl espectador se siente transportado al abáa – la casa de la palabra- el lugar de encuentro: un lugar dónde no existen espectadores pasivos\, un sitio en el cual –como se dice en escena– “el tiempo no se gana ni se pierde: se comparte”. Narra historias de abuelos. Esencialmente\, El Percusionista reúne las condiciones de la tradición cultural africana: informa\, forma divierte y conmueve. \nGORSY EDÚ. Actor\, coreógrafo\, bailarín\, ha trabajado con directores connotados. En cine\, es protagonista de los largometrajes Querida Bamako y la Causa de kripán de Omer Oke. Dirigió el proyecto pedagógico Edu´Art. Se presenta en Europa\, América y Africa. \n 
URL:https://teatrosucre.com/event/el-percusionista/
LOCATION:Teatro Nacional Sucre\, Guayaquil &\, Manabi\, Quito 170401\, Quito\, Pichincha\, Ecuador
CATEGORIES:Teatro
ATTACH;FMTTYPE=image/png:https://cdn.teatrosucre.com/wp-content/uploads/2022/04/13103601/Meet-to-Go-El-Percusionista.png
GEO:-0.2191751;-78.508865
X-APPLE-STRUCTURED-LOCATION;VALUE=URI;X-ADDRESS=Teatro Nacional Sucre Guayaquil & Manabi Quito 170401 Quito Pichincha Ecuador;X-APPLE-RADIUS=500;X-TITLE=Guayaquil &\, Manabi\, Quito 170401:geo:-78.508865,-0.2191751
END:VEVENT
END:VCALENDAR