BEGIN:VCALENDAR
VERSION:2.0
PRODID:-//Fundación Teatro Nacional Sucre - ECPv6.15.20//NONSGML v1.0//EN
CALSCALE:GREGORIAN
METHOD:PUBLISH
X-ORIGINAL-URL:https://teatrosucre.com
X-WR-CALDESC:Eventos para Fundación Teatro Nacional Sucre
REFRESH-INTERVAL;VALUE=DURATION:PT1H
X-Robots-Tag:noindex
X-PUBLISHED-TTL:PT1H
BEGIN:VTIMEZONE
TZID:America/Guayaquil
BEGIN:STANDARD
TZOFFSETFROM:-0500
TZOFFSETTO:-0500
TZNAME:-05
DTSTART:20220101T000000
END:STANDARD
END:VTIMEZONE
BEGIN:VEVENT
DTSTART;TZID=America/Guayaquil:20230612T100000
DTEND;TZID=America/Guayaquil:20230612T130000
DTSTAMP:20260422T231437
CREATED:20230522T155514Z
LAST-MODIFIED:20230525T191806Z
UID:187925-1686564000-1686574800@teatrosucre.com
SUMMARY:Taller de la Compañía colombiana de danza contemporánea - Incolballet
DESCRIPTION:Del 1 al 18 de junio\, regresa la Fiesta Escénica de Quito. Siente la pasión de las artes vivas con una selección de las mejores obras de teatro\, danza\, performance\, títeres y más. \nComo parte de la programación de esta edición se realizará un taller\, dirigido por Juan Felipe Nuñez Trujillo\, bailarín integrante de la compañía colombiana de danza contemporánea\, que ofrece una experiencia que combina los elementos de la danza contemporánea desarrollados a lo largo de la trayectoria de la compañía. \nCon la influencia de diversos coreógrafos y maestros\, el taller se enfoca en explorar la conciencia espacial\, las dinámicas de movimiento y la intención\, alentando a los participantes en la búsqueda de diferentes posibilidades de movimiento. \nCupo limitado. Para inscribirte\, por favor llena el siguiente formulario: \nhttps://bit.ly/TallerDanzaFIEQ2023 \n 
URL:https://teatrosucre.com/event/taller-de-la-compania-colombiana-de-danza-contemporanea-incolballet/
LOCATION:Compañía Nacional de Danza del Ecuador\, Av. Rio Coca E10-59 y París\, Quito\, Pichincha\, Ecuador
CATEGORIES:Talleres
ATTACH;FMTTYPE=image/jpeg:https://cdn.teatrosucre.com/wp-content/uploads/2023/05/13101808/12-junio-La-Cura-Taller.jpg
END:VEVENT
BEGIN:VEVENT
DTSTART;TZID=America/Guayaquil:20230602T110000
DTEND;TZID=America/Guayaquil:20230602T140000
DTSTAMP:20260422T231437
CREATED:20230522T154226Z
LAST-MODIFIED:20230524T200111Z
UID:187905-1685703600-1685714400@teatrosucre.com
SUMMARY:Encuentro creativo\, desmontaje y entrenamiento
DESCRIPTION:Del 1 al 18 de junio\, regresa la Fiesta Escénica de Quito. Siente la pasión de las artes vivas con una selección de las mejores obras de teatro\, danza\, performance\, títeres y más. \nComo parte de la programación de esta edición se realizará Camino a Nínive: Encuentro creativo\, desmontaje y entrenamiento\, con Dani Crank (Actriz) y José Uriel García Solís (Director). \nEn este encuentro\, mediante el diálogo y ejercicios de entrenamiento actoral\, ambos artistas mexicanos buscan exponer y compartir el proceso creativo del proyecto NANA; desde las ideas\, hasta la puesta en escena. \nDaniela López García (Dani Crank).\nActriz. Egresada de la Lic. En Artes Teatrales de la UAEMex. Ha participado en más de 20 puestas en escena\, se ha presentado en importantes escenarios de México\, Colombia\, Chile\, Argentina y España. \nJosé Uriel García Solís\nDirector escénico\, dramaturgo y gestor cultural. Su trabajo ha explorado las poéticas para públicos específicos. Ha colaborado con agrupaciones teatrales de Veracruz\, Guerrero\, Ciudad de México y Estado de México. Su trabajo se ha presentado en escenarios de México\, Colombia\, Chile\, Argentina\, España y Dinamarca. \nDirigida a: creadores escénicos\, estudiantes de teatro y/o actuación\, críticos de teatro o público en general \nDuración: 3 horas \nActividades: \n– Desmontaje: Sesión de preguntas con los participantes.\n– Exposición de la estructura de una puesta en escena\, a partir de la experiencia del proyecto “Nana”\n– Entrenamiento actoral\, a partir de la experiencia del proyecto “Nana” \nRequisitos para los participantes: Ropa cómoda o para realizar ejercicio. \nCupo limitado. Para inscribirte\, por favor llena el siguiente formulario: \nhttps://bit.ly/EncuentroTeatroFIEQ2023 \n 
URL:https://teatrosucre.com/event/encuentro-creativo-desmontaje-y-entrenamiento-la-gorgona-teatro-mexico/
LOCATION:Teatro Variedades\, Plaza del Teatro\, Quito\, Pichincha\, Ecuador
CATEGORIES:Talleres
ATTACH;FMTTYPE=image/jpeg:https://cdn.teatrosucre.com/wp-content/uploads/2023/05/13101811/2-junio-Nana-Taller.jpg
GEO:-0.2189843;-78.5085724
X-APPLE-STRUCTURED-LOCATION;VALUE=URI;X-ADDRESS=Teatro Variedades Plaza del Teatro Quito Pichincha Ecuador;X-APPLE-RADIUS=500;X-TITLE=Plaza del Teatro:geo:-78.5085724,-0.2189843
END:VEVENT
END:VCALENDAR