BEGIN:VCALENDAR
VERSION:2.0
PRODID:-//Fundación Teatro Nacional Sucre - ECPv6.15.20//NONSGML v1.0//EN
CALSCALE:GREGORIAN
METHOD:PUBLISH
X-ORIGINAL-URL:https://teatrosucre.com
X-WR-CALDESC:Eventos para Fundación Teatro Nacional Sucre
REFRESH-INTERVAL;VALUE=DURATION:PT1H
X-Robots-Tag:noindex
X-PUBLISHED-TTL:PT1H
BEGIN:VTIMEZONE
TZID:America/Guayaquil
BEGIN:STANDARD
TZOFFSETFROM:-0500
TZOFFSETTO:-0500
TZNAME:-05
DTSTART:20200101T000000
END:STANDARD
END:VTIMEZONE
BEGIN:VEVENT
DTSTART;TZID=America/Guayaquil:20210606T110000
DTEND;TZID=America/Guayaquil:20210606T114500
DTSTAMP:20260425T072121
CREATED:20210503T165714Z
LAST-MODIFIED:20210606T000623Z
UID:125967-1622977200-1622979900@teatrosucre.com
SUMMARY:Guagüitas
DESCRIPTION:Del 2 al 13 de junio de 2021\, Quito volverá a celebrar una experiencia escénica con 18 obras nacionales que representan lo mejor del teatro\, la danza\, el performance y el circo contemporáneo\, en los escenarios de la Fundación Teatro Nacional Sucre. \nEspectáculo familiar dedicado a primera infancia 0 a 5 años. Creando cuadros estéticos y musicales inspirados en Ciclo Vital y Estados del Agua\, el Agua del Mar y el Agua Dulce. Inspirado en música afro ecuatoriana\, Fundación Círculo trabaja con una marimba en escena\, evocando la musicalidad del agua\, el río\, el mar. \n“¡Gua-Gua! Lloran las Guagüitas cuando salen de la agüita de la panza de su mamá. Y cuando crecen… Aguuu ¡cómo les gusta jugar!: en la bañera\, en los charcos que deja la lluvia y en el agua de la mar.” Desde su estreno en Junio 2015\, la obra ha realizado más de 50 funciones en salas y eventos en Ecuador\, Chile y Argentina. \nNominada al premio «Teatro del Mundo”\, otorgado por críticos de la Universidad de Buenos Aires\, para destacar las propuestas extranjeras que formaron parte de la cartelera teatral de dicha ciudad. \nDirección: Ángel Sánchez y Ana Gallego. Teloncillo Teatro España.\nCreadores e Intérpretes: Matías Belmar\, Tanya Sánchez. Círculo Artes Escénicas Ecuador\nJefe Técnico: Pedro Pablo Villacis\nAsesoría Creativa: Diego David Zurita.\nDiseño Teatral: Matías Belmar\, Marian Morillo\, Sofia Santarone\, Cristopher Villavicencio y Teloncillo\nVestuario: Sara Constante\nProducción: Tanya Sánchez \nPUEDES ACCEDER AL EVENTO DESDE EL LINK QUE TE LLEGA AL CORREO «TUS TICKETS DE FUNDACIÓN TEATRO NACIONAL SUCRE» o REVISAR TUS LINKS DE ACCESO EN LA SECCIÓN MIS PEDIDOS DE TU PERFIL\nTAMBIÉN PUEDES ACCEDER INGRESANDO A ESTA MISMA PÁGINA E INICIAR SESIÓN PARA VER EL VÍDEO
URL:https://teatrosucre.com/event/guaguitas/
LOCATION:Teatro Variedades\, Plaza del Teatro\, Quito\, Pichincha\, Ecuador
CATEGORIES:Multidisciplinario
ATTACH;FMTTYPE=image/jpeg:https://cdn.teatrosucre.com/wp-content/uploads/2021/05/13104208/Fundacio%CC%81n-Ci%CC%81rculo-_-Guaguitas_TM_APP.jpg
GEO:-0.2189843;-78.5085724
X-APPLE-STRUCTURED-LOCATION;VALUE=URI;X-ADDRESS=Teatro Variedades Plaza del Teatro Quito Pichincha Ecuador;X-APPLE-RADIUS=500;X-TITLE=Plaza del Teatro:geo:-78.5085724,-0.2189843
END:VEVENT
BEGIN:VEVENT
DTSTART;TZID=America/Guayaquil:20210612T153000
DTEND;TZID=America/Guayaquil:20210612T163000
DTSTAMP:20260425T072121
CREATED:20210429T232621Z
LAST-MODIFIED:20210612T163629Z
UID:125921-1623511800-1623515400@teatrosucre.com
SUMMARY:La historia de un niño llamado Enrique
DESCRIPTION:Del 2 al 13 de junio de 2021\, Quito volverá a celebrar una experiencia escénica con 18 obras nacionales que representan lo mejor del teatro\, la danza\, el performance y el circo contemporáneo\, en los escenarios de la Fundación Teatro Nacional Sucre. \nObra basada en el relato de vida de Enrique Paz y Miño. Es una emanación de un ejercicio académico-etnográfico realizado en el curso de Antropología y Medio Ambiente dictado por Ivette Vallejo en Flacso-Ecuador. Mediante diálogos con las artes\, busca difundir resultados académicos a un público extendido mientras cuestiona la dicotomía arte-ciencia. La propuesta parte de un relato de la vida de Jaime Paz y Miño\, quien habitó el sector en la década de los 50. Mediante la articulación de lenguajes escénicos y visuales\, el montaje recorre los paisajes ambientales y culturales olvidados y silenciados por la historia hegemónica. \nLa obra problematiza las formas de circulación de los resultados académicos y mediante títeres\, música original\, paisajes sonoros\, una escenografía creada un situ\, imágenes móviles\, humor y fantasía\, reconstruye\, desde lo sensible\, una parte de la ciudad\, usualmente invisibilizada. El montaje conjuga\, en igualdad de condiciones\, saberes científicos y artísticos para cuestionar la dicotomía arte-ciencia. \nPerformers -titiriteros: Tanya Benitez y Daniel Badillo\nPerformer-artista visual: Karina Cortez\nSapo: América Paz y Miño\nVideos de la obra\, spots publicitarios y fotografías: Geviller Marín\nAdaptación de texto: Daniel Badillo y América Paz y Miño\nDiseño Sonoro: Solange Cuvi\nPasillo Original: Daniel Badillo y Solange Cuvi\nElaboración de escenografía y títeres: Solange Cuvi\, Daniel Badillo\, Karina Cortez\, Patricio Ponce\, Juan Andrade y América Paz y Miño\nEdición y masterización: Runa Estudio\nDiseño del material gráfico: Henrry Bedoya\nFotos de archivo: Familia Paz y Miño \n\n\nPUEDES ACCEDER AL EVENTO DESDE EL LINK QUE TE LLEGA AL CORREO «TUS TICKETS DE FUNDACIÓN TEATRO NACIONAL SUCRE» o REVISAR TUS LINKS DE ACCESO EN LA SECCIÓN MIS PEDIDOS DE TU PERFIL\nTAMBIÉN PUEDES ACCEDER INGRESANDO A ESTA MISMA PÁGINA E INICIAR SESIÓN PARA VER EL VÍDEO
URL:https://teatrosucre.com/event/la-historia-de-un-nino-llamado-enrique/
LOCATION:Teatro México\, Tomebamba\, Quito 170121\, Quito\, Pichincha\, Ecuador
CATEGORIES:Multidisciplinario
ATTACH;FMTTYPE=image/png:https://cdn.teatrosucre.com/wp-content/uploads/2021/04/13104220/HISTORIA-NIN%CC%83O-ENRIQUE_TM_APP.png
GEO:-0.2399671;-78.5186573
X-APPLE-STRUCTURED-LOCATION;VALUE=URI;X-ADDRESS=Teatro México Tomebamba Quito 170121 Quito Pichincha Ecuador;X-APPLE-RADIUS=500;X-TITLE=Tomebamba\, Quito 170121:geo:-78.5186573,-0.2399671
END:VEVENT
BEGIN:VEVENT
DTSTART;TZID=America/Guayaquil:20210626T103000
DTEND;TZID=America/Guayaquil:20210626T110000
DTSTAMP:20260425T072121
CREATED:20210610T155535Z
LAST-MODIFIED:20210610T162612Z
UID:128307-1624703400-1624705200@teatrosucre.com
SUMMARY:La historia de la Luz - 26 de junio - 10h30
DESCRIPTION:Esta sábado 26 y domingo 27 de junio\, vive una experiencia multimedia inmersiva en ‘La historia de la luz’\, espectáculo de mapping y láser que conjuga el arte y la tecnología\, en el Teatro Nacional Sucre. \n‘La historia de la Luz’ es un proyecto innovador de láser\, mapping y efectos especiales que contará con la participación del artista especialista en el desarrollo visual Andrés Aulestia y el soporte de 3Laser. \nLa propuesta tiene por objetivo el ofrecer una experiencia audiovisual única para toda la familiar\, a través del uso de nuevas tecnologías. \nCuatro funciones diarias: 10h30\, 12h00\, 15h00 y 17h00. \nEVENTO PRESENCIAL
URL:https://teatrosucre.com/event/la-historia-de-la-luz-26-de-junio-10h30/
LOCATION:Teatro Nacional Sucre\, Guayaquil &\, Manabi\, Quito 170401\, Quito\, Pichincha\, Ecuador
CATEGORIES:Multidisciplinario
ATTACH;FMTTYPE=image/png:https://cdn.teatrosucre.com/wp-content/uploads/2021/06/13104039/luz_m2g_2.png
GEO:-0.2191751;-78.508865
X-APPLE-STRUCTURED-LOCATION;VALUE=URI;X-ADDRESS=Teatro Nacional Sucre Guayaquil & Manabi Quito 170401 Quito Pichincha Ecuador;X-APPLE-RADIUS=500;X-TITLE=Guayaquil &\, Manabi\, Quito 170401:geo:-78.508865,-0.2191751
END:VEVENT
BEGIN:VEVENT
DTSTART;TZID=America/Guayaquil:20210626T120000
DTEND;TZID=America/Guayaquil:20210626T123000
DTSTAMP:20260425T072121
CREATED:20210610T160927Z
LAST-MODIFIED:20210610T164552Z
UID:128319-1624708800-1624710600@teatrosucre.com
SUMMARY:La historia de la Luz - 26 de junio - 12h00
DESCRIPTION:Este sábado 26 y domingo 27 de junio\, vive una experiencia multimedia inmersiva en ‘La historia de la luz’\, espectáculo de mapping y láser que conjuga el arte y la tecnología\, en el Teatro Nacional Sucre. \n‘La historia de la Luz’ es un proyecto innovador de láser\, mapping y efectos especiales que contará con la participación del artista especialista en el desarrollo visual Andrés Aulestia y el soporte de 3Laser. \nLa propuesta tiene por objetivo el ofrecer una experiencia audiovisual única para toda la familiar\, a través del uso de nuevas tecnologías. \nCuatro funciones diarias: 10h30\, 12h00\, 15h00 y 17h00. \nEVENTO PRESENCIAL
URL:https://teatrosucre.com/event/la-historia-de-la-luz-26-de-junio-12h00/
LOCATION:Teatro Nacional Sucre\, Guayaquil &\, Manabi\, Quito 170401\, Quito\, Pichincha\, Ecuador
CATEGORIES:Multidisciplinario
ATTACH;FMTTYPE=image/png:https://cdn.teatrosucre.com/wp-content/uploads/2021/06/13104039/luz_m2g_2.png
GEO:-0.2191751;-78.508865
X-APPLE-STRUCTURED-LOCATION;VALUE=URI;X-ADDRESS=Teatro Nacional Sucre Guayaquil & Manabi Quito 170401 Quito Pichincha Ecuador;X-APPLE-RADIUS=500;X-TITLE=Guayaquil &\, Manabi\, Quito 170401:geo:-78.508865,-0.2191751
END:VEVENT
BEGIN:VEVENT
DTSTART;TZID=America/Guayaquil:20210626T150000
DTEND;TZID=America/Guayaquil:20210626T153000
DTSTAMP:20260425T072121
CREATED:20210610T161614Z
LAST-MODIFIED:20210610T164603Z
UID:128326-1624719600-1624721400@teatrosucre.com
SUMMARY:La historia de la Luz - 26 de junio - 15h00
DESCRIPTION:Este sábado 26 y domingo 27 de junio\, vive una experiencia multimedia inmersiva en ‘La historia de la luz’\, espectáculo de mapping y láser que conjuga el arte y la tecnología\, en el Teatro Nacional Sucre. \n‘La historia de la Luz’ es un proyecto innovador de láser\, mapping y efectos especiales que contará con la participación del artista especialista en el desarrollo visual Andrés Aulestia y el soporte de 3Laser. \nLa propuesta tiene por objetivo el ofrecer una experiencia audiovisual única para toda la familiar\, a través del uso de nuevas tecnologías. \nCuatro funciones diarias: 10h30\, 12h00\, 15h00 y 17h00. \nEVENTO PRESENCIAL
URL:https://teatrosucre.com/event/la-historia-de-la-luz-26-de-junio-15h00/
LOCATION:Teatro Nacional Sucre\, Guayaquil &\, Manabi\, Quito 170401\, Quito\, Pichincha\, Ecuador
CATEGORIES:Multidisciplinario
ATTACH;FMTTYPE=image/png:https://cdn.teatrosucre.com/wp-content/uploads/2021/06/13104039/luz_m2g_2.png
GEO:-0.2191751;-78.508865
X-APPLE-STRUCTURED-LOCATION;VALUE=URI;X-ADDRESS=Teatro Nacional Sucre Guayaquil & Manabi Quito 170401 Quito Pichincha Ecuador;X-APPLE-RADIUS=500;X-TITLE=Guayaquil &\, Manabi\, Quito 170401:geo:-78.508865,-0.2191751
END:VEVENT
BEGIN:VEVENT
DTSTART;TZID=America/Guayaquil:20210626T170000
DTEND;TZID=America/Guayaquil:20210626T173000
DTSTAMP:20260425T072121
CREATED:20210610T162209Z
LAST-MODIFIED:20210610T164619Z
UID:128333-1624726800-1624728600@teatrosucre.com
SUMMARY:La historia de la Luz - 26 de junio - 17h00
DESCRIPTION:Este sábado 26 y domingo 27 de junio\, vive una experiencia multimedia inmersiva en ‘La historia de la luz’\, espectáculo de mapping y láser que conjuga el arte y la tecnología\, en el Teatro Nacional Sucre. \n‘La historia de la Luz’ es un proyecto innovador de láser\, mapping y efectos especiales que contará con la participación del artista especialista en el desarrollo visual Andrés Aulestia y el soporte de 3Laser. \nLa propuesta tiene por objetivo el ofrecer una experiencia audiovisual única para toda la familiar\, a través del uso de nuevas tecnologías. \nCuatro funciones diarias: 10h30\, 12h00\, 15h00 y 17h00. \nEVENTO PRESENCIAL
URL:https://teatrosucre.com/event/la-historia-de-la-luz-26-de-junio-17h00/
LOCATION:Teatro Nacional Sucre\, Guayaquil &\, Manabi\, Quito 170401\, Quito\, Pichincha\, Ecuador
CATEGORIES:Multidisciplinario
ATTACH;FMTTYPE=image/png:https://cdn.teatrosucre.com/wp-content/uploads/2021/06/13104039/luz_m2g_2.png
GEO:-0.2191751;-78.508865
X-APPLE-STRUCTURED-LOCATION;VALUE=URI;X-ADDRESS=Teatro Nacional Sucre Guayaquil & Manabi Quito 170401 Quito Pichincha Ecuador;X-APPLE-RADIUS=500;X-TITLE=Guayaquil &\, Manabi\, Quito 170401:geo:-78.508865,-0.2191751
END:VEVENT
BEGIN:VEVENT
DTSTART;TZID=America/Guayaquil:20210627T103000
DTEND;TZID=America/Guayaquil:20210627T110000
DTSTAMP:20260425T072121
CREATED:20210610T163148Z
LAST-MODIFIED:20210610T164651Z
UID:128343-1624789800-1624791600@teatrosucre.com
SUMMARY:La historia de la Luz - 27 de junio - 10h30
DESCRIPTION:Este sábado 26 y domingo 27 de junio\, vive una experiencia multimedia inmersiva en ‘La historia de la luz’\, espectáculo de mapping y láser que conjuga el arte y la tecnología\, en el Teatro Nacional Sucre. \n‘La historia de la Luz’ es un proyecto innovador de láser\, mapping y efectos especiales que contará con la participación del artista especialista en el desarrollo visual Andrés Aulestia y el soporte de 3Laser. \nLa propuesta tiene por objetivo el ofrecer una experiencia audiovisual única para toda la familiar\, a través del uso de nuevas tecnologías. \nCuatro funciones diarias: 10h30\, 12h00\, 15h00 y 17h00. \nEVENTO PRESENCIAL
URL:https://teatrosucre.com/event/la-historia-de-la-luz-27-de-junio-10h30/
LOCATION:Teatro Nacional Sucre\, Guayaquil &\, Manabi\, Quito 170401\, Quito\, Pichincha\, Ecuador
CATEGORIES:Multidisciplinario
ATTACH;FMTTYPE=image/png:https://cdn.teatrosucre.com/wp-content/uploads/2021/06/13104039/luz_m2g_2.png
GEO:-0.2191751;-78.508865
X-APPLE-STRUCTURED-LOCATION;VALUE=URI;X-ADDRESS=Teatro Nacional Sucre Guayaquil & Manabi Quito 170401 Quito Pichincha Ecuador;X-APPLE-RADIUS=500;X-TITLE=Guayaquil &\, Manabi\, Quito 170401:geo:-78.508865,-0.2191751
END:VEVENT
BEGIN:VEVENT
DTSTART;TZID=America/Guayaquil:20210627T120000
DTEND;TZID=America/Guayaquil:20210627T123000
DTSTAMP:20260425T072121
CREATED:20210610T163745Z
LAST-MODIFIED:20210610T164700Z
UID:128357-1624795200-1624797000@teatrosucre.com
SUMMARY:La historia de la Luz - 27 de junio - 12h00
DESCRIPTION:Este sábado 26 y domingo 27 de junio\, vive una experiencia multimedia inmersiva en ‘La historia de la luz’\, espectáculo de mapping y láser que conjuga el arte y la tecnología\, en el Teatro Nacional Sucre. \n‘La historia de la Luz’ es un proyecto innovador de láser\, mapping y efectos especiales que contará con la participación del artista especialista en el desarrollo visual Andrés Aulestia y el soporte de 3Laser. \nLa propuesta tiene por objetivo el ofrecer una experiencia audiovisual única para toda la familiar\, a través del uso de nuevas tecnologías. \nCuatro funciones diarias: 10h30\, 12h00\, 15h00 y 17h00. \nEVENTO PRESENCIAL
URL:https://teatrosucre.com/event/la-historia-de-la-luz-27-de-junio-12h00/
LOCATION:Teatro Nacional Sucre\, Guayaquil &\, Manabi\, Quito 170401\, Quito\, Pichincha\, Ecuador
CATEGORIES:Multidisciplinario
ATTACH;FMTTYPE=image/png:https://cdn.teatrosucre.com/wp-content/uploads/2021/06/13104039/luz_m2g_2.png
GEO:-0.2191751;-78.508865
X-APPLE-STRUCTURED-LOCATION;VALUE=URI;X-ADDRESS=Teatro Nacional Sucre Guayaquil & Manabi Quito 170401 Quito Pichincha Ecuador;X-APPLE-RADIUS=500;X-TITLE=Guayaquil &\, Manabi\, Quito 170401:geo:-78.508865,-0.2191751
END:VEVENT
BEGIN:VEVENT
DTSTART;TZID=America/Guayaquil:20210627T150000
DTEND;TZID=America/Guayaquil:20210627T153000
DTSTAMP:20260425T072121
CREATED:20210610T164326Z
LAST-MODIFIED:20210610T164505Z
UID:128364-1624806000-1624807800@teatrosucre.com
SUMMARY:La historia de la Luz - 27 de junio - 15h00
DESCRIPTION:Este sábado 26 y domingo 27 de junio\, vive una experiencia multimedia inmersiva en ‘La historia de la luz’\, espectáculo de mapping y láser que conjuga el arte y la tecnología\, en el Teatro Nacional Sucre. \n‘La historia de la Luz’ es un proyecto innovador de láser\, mapping y efectos especiales que contará con la participación del artista especialista en el desarrollo visual Andrés Aulestia y el soporte de 3Laser. \nLa propuesta tiene por objetivo el ofrecer una experiencia audiovisual única para toda la familiar\, a través del uso de nuevas tecnologías. \nCuatro funciones diarias: 10h30\, 12h00\, 15h00 y 17h00. \nEVENTO PRESENCIAL
URL:https://teatrosucre.com/event/la-historia-de-la-luz-27-de-junio-15h00/
LOCATION:Teatro Nacional Sucre\, Guayaquil &\, Manabi\, Quito 170401\, Quito\, Pichincha\, Ecuador
CATEGORIES:Multidisciplinario
ATTACH;FMTTYPE=image/png:https://cdn.teatrosucre.com/wp-content/uploads/2021/06/13104039/luz_m2g_2.png
GEO:-0.2191751;-78.508865
X-APPLE-STRUCTURED-LOCATION;VALUE=URI;X-ADDRESS=Teatro Nacional Sucre Guayaquil & Manabi Quito 170401 Quito Pichincha Ecuador;X-APPLE-RADIUS=500;X-TITLE=Guayaquil &\, Manabi\, Quito 170401:geo:-78.508865,-0.2191751
END:VEVENT
BEGIN:VEVENT
DTSTART;TZID=America/Guayaquil:20210627T170000
DTEND;TZID=America/Guayaquil:20210627T173000
DTSTAMP:20260425T072121
CREATED:20210610T165216Z
LAST-MODIFIED:20210610T165216Z
UID:128371-1624813200-1624815000@teatrosucre.com
SUMMARY:La historia de la Luz – 27 de junio – 17h00
DESCRIPTION:Este sábado 26 y domingo 27 de junio\, vive una experiencia multimedia inmersiva en ‘La historia de la luz’\, espectáculo de mapping y láser que conjuga el arte y la tecnología\, en el Teatro Nacional Sucre. \n‘La historia de la Luz’ es un proyecto innovador de láser\, mapping y efectos especiales que contará con la participación del artista especialista en el desarrollo visual Andrés Aulestia y el soporte de 3Laser. \nLa propuesta tiene por objetivo el ofrecer una experiencia audiovisual única para toda la familiar\, a través del uso de nuevas tecnologías. \nCuatro funciones diarias: 10h30\, 12h00\, 15h00 y 17h00. \nEVENTO PRESENCIAL
URL:https://teatrosucre.com/event/la-historia-de-la-luz-27-de-junio-17h00/
LOCATION:Teatro Nacional Sucre\, Guayaquil &\, Manabi\, Quito 170401\, Quito\, Pichincha\, Ecuador
CATEGORIES:Multidisciplinario
ATTACH;FMTTYPE=image/png:https://cdn.teatrosucre.com/wp-content/uploads/2021/06/13104039/luz_m2g_2.png
GEO:-0.2191751;-78.508865
X-APPLE-STRUCTURED-LOCATION;VALUE=URI;X-ADDRESS=Teatro Nacional Sucre Guayaquil & Manabi Quito 170401 Quito Pichincha Ecuador;X-APPLE-RADIUS=500;X-TITLE=Guayaquil &\, Manabi\, Quito 170401:geo:-78.508865,-0.2191751
END:VEVENT
END:VCALENDAR