BEGIN:VCALENDAR
VERSION:2.0
PRODID:-//Fundación Teatro Nacional Sucre - ECPv6.15.20//NONSGML v1.0//EN
CALSCALE:GREGORIAN
METHOD:PUBLISH
X-WR-CALNAME:Fundación Teatro Nacional Sucre
X-ORIGINAL-URL:https://teatrosucre.com
X-WR-CALDESC:Eventos para Fundación Teatro Nacional Sucre
REFRESH-INTERVAL;VALUE=DURATION:PT1H
X-Robots-Tag:noindex
X-PUBLISHED-TTL:PT1H
BEGIN:VTIMEZONE
TZID:America/Guayaquil
BEGIN:STANDARD
TZOFFSETFROM:-0500
TZOFFSETTO:-0500
TZNAME:-05
DTSTART:20240101T000000
END:STANDARD
END:VTIMEZONE
BEGIN:VEVENT
DTSTART;TZID=America/Guayaquil:20250305T180000
DTEND;TZID=America/Guayaquil:20250305T190000
DTSTAMP:20260420T010345
CREATED:20250219T152415Z
LAST-MODIFIED:20250219T153104Z
UID:256746-1741197600-1741201200@teatrosucre.com
SUMMARY:Semana de dramaturgia | Obra: Los perros del pan
DESCRIPTION:En el Festival de Artes Escénicas Fiesta Escénica de Quito 2024\, la residencia de dramaturgia fue un espacio de exploración y creación teatral. Los dramaturgos desarrollaron obras inéditas\, que se presentarán este mes en lecturas dramáticas\, donde el público podrá apreciar la esencia de los textos antes de su puesta en escena. Estas lecturas fomentan el diálogo entre autores\, actores y espectadores\, ofreciendo una mirada al proceso creativo del teatro. \nSinopsis de Los perros del pan de Luis Largo\nLos perros del pan es una obra autoficcional que relata tres regresos y una ruptura. El dramaturgo Luis Largo explora la historia de la migración de sus padres a Venezuela\, mientras su hermano le solicita ayuda para encontrar a su perro perdido. A lo largo de la obra\, diversos perros callejeros del barrio son entrevistados y se escriben cartas de despedida. En paralelo\, los hermanos descubren una posible forma de representar el pasado de su familia\, hilando recuerdos y momentos que dan forma a una historia colectiva.   \n🎟️ Inscríbete aquí.
URL:https://teatrosucre.com/event/semana-de-dramaturgia-obra-los-perros-del-pan/
LOCATION:Terraza TNS (Segundo piso)\, Manabí y Flores\, Quito\, Pichincha\, Ecuador
CATEGORIES:Lectura dramática
ATTACH;FMTTYPE=image/png:https://cdn.teatrosucre.com/wp-content/uploads/2025/02/19101409/Lecturas_Noticia_FIEQ_1920x900-1.png
END:VEVENT
BEGIN:VEVENT
DTSTART;TZID=America/Guayaquil:20250306T180000
DTEND;TZID=America/Guayaquil:20250306T190000
DTSTAMP:20260420T010345
CREATED:20250219T152231Z
LAST-MODIFIED:20250219T154929Z
UID:256742-1741284000-1741287600@teatrosucre.com
SUMMARY:Lanzamiento cuadernos dramaturgia
DESCRIPTION:En el Festival de Artes Escénicas Fiesta Escénica de Quito 2024\, la residencia de dramaturgia fue un espacio de exploración y creación teatral. Los dramaturgos desarrollaron obras inéditas\, que se presentarán este mes en lecturas dramáticas\, donde el público podrá apreciar la esencia de los textos antes de su puesta en escena. Estas lecturas fomentan el diálogo entre autores\, actores y espectadores\, ofreciendo una mirada al proceso creativo del teatro. \nComo parte del trabajo desarrollado por los dramaturgos\, se presentarán los Cuadernos de Dramaturgia\, una publicación que recoge los textos surgidos en la residencia como proceso creativo y reflexivo. Estos cuadernos no solo documentan la experiencia\, sino que también constituyen un valioso aporte a la dramaturgia contemporánea.  \n🎟️ Inscríbete aquí.
URL:https://teatrosucre.com/event/lanzamiento-cuadernos-dramaturgia/
LOCATION:Teatro Variedades\, Plaza del Teatro\, Quito\, Pichincha\, Ecuador
CATEGORIES:Lectura dramática
ATTACH;FMTTYPE=image/png:https://cdn.teatrosucre.com/wp-content/uploads/2025/02/19101409/Lecturas_Noticia_FIEQ_1920x900-1.png
GEO:-0.2189843;-78.5085724
X-APPLE-STRUCTURED-LOCATION;VALUE=URI;X-ADDRESS=Teatro Variedades Plaza del Teatro Quito Pichincha Ecuador;X-APPLE-RADIUS=500;X-TITLE=Plaza del Teatro:geo:-78.5085724,-0.2189843
END:VEVENT
BEGIN:VEVENT
DTSTART;TZID=America/Guayaquil:20250306T190000
DTEND;TZID=America/Guayaquil:20250306T200000
DTSTAMP:20260420T010345
CREATED:20250219T152537Z
LAST-MODIFIED:20250219T154938Z
UID:256737-1741287600-1741291200@teatrosucre.com
SUMMARY:Semana de dramaturgia | Obra: Todas las veces que te vi morir
DESCRIPTION:En el Festival de Artes Escénicas Fiesta Escénica de Quito 2024\, la residencia de dramaturgia fue un espacio de exploración y creación teatral. Los dramaturgos desarrollaron obras inéditas\, que se presentarán este mes en lecturas dramáticas\, donde el público podrá apreciar la esencia de los textos antes de su puesta en escena. Estas lecturas fomentan el diálogo entre autores\, actores y espectadores\, ofreciendo una mirada al proceso creativo del teatro. \nSinopsis de Todas las veces que te vi morir de Pavel Hernández\nEntre la soledad y el vacío de una casa llena de recuerdos depositados en cajas de cartón\, Victoria (una profesora\, una dramaturga\, una madre horrible\, una madre histérica\, una madre)\, intenta inventarse una respuesta ausente\, reconstruir un destino inacabado sobre el paradero de su hijo desaparecido\, Simón (un alumno\, un joven\, un hijo desagradecido\, un hijo desconsiderado\, un hijo). \n🎟️ Inscríbete aquí.
URL:https://teatrosucre.com/event/semana-de-dramaturgia-obra-todas-las-veces-que-te-vi-morir/
LOCATION:Teatro Variedades\, Plaza del Teatro\, Quito\, Pichincha\, Ecuador
CATEGORIES:Lectura dramática
ATTACH;FMTTYPE=image/png:https://cdn.teatrosucre.com/wp-content/uploads/2025/02/19101409/Lecturas_Noticia_FIEQ_1920x900-1.png
GEO:-0.2189843;-78.5085724
X-APPLE-STRUCTURED-LOCATION;VALUE=URI;X-ADDRESS=Teatro Variedades Plaza del Teatro Quito Pichincha Ecuador;X-APPLE-RADIUS=500;X-TITLE=Plaza del Teatro:geo:-78.5085724,-0.2189843
END:VEVENT
BEGIN:VEVENT
DTSTART;TZID=America/Guayaquil:20250307T180000
DTEND;TZID=America/Guayaquil:20250307T190000
DTSTAMP:20260420T010345
CREATED:20250219T152736Z
LAST-MODIFIED:20250225T165829Z
UID:256739-1741370400-1741374000@teatrosucre.com
SUMMARY:Semana de dramaturgia | Obra: Las pájaros
DESCRIPTION:En el Festival de Artes Escénicas Fiesta Escénica de Quito 2024\, la residencia de dramaturgia fue un espacio de exploración y creación teatral. Los dramaturgos desarrollaron obras inéditas\, que se presentarán este mes en lecturas dramáticas\, donde el público podrá apreciar la esencia de los textos antes de su puesta en escena. Estas lecturas fomentan el diálogo entre autores\, actores y espectadores\, ofreciendo una mirada al proceso creativo del teatro. \nSinopsis de Las pájaros de Karla Guin\nLas Pájaros es un mundo onírico fragmentado o quebrado en donde se\njuega a imaginar y re-escribir la memoria de: espacios\, cuerpos en escena\,\ncuerpos expectantes afectados y afectadas por la ausencia. \nCuadros donde la imagen\, la palabra y el sonido son una denuncia\nconstante \n🎟️ Inscríbete aquí.
URL:https://teatrosucre.com/event/semana-de-dramaturgia-obra-los-pajaros/
LOCATION:Teatro Variedades\, Plaza del Teatro\, Quito\, Pichincha\, Ecuador
CATEGORIES:Lectura dramática
ATTACH;FMTTYPE=image/png:https://cdn.teatrosucre.com/wp-content/uploads/2025/02/19101409/Lecturas_Noticia_FIEQ_1920x900-1.png
GEO:-0.2189843;-78.5085724
X-APPLE-STRUCTURED-LOCATION;VALUE=URI;X-ADDRESS=Teatro Variedades Plaza del Teatro Quito Pichincha Ecuador;X-APPLE-RADIUS=500;X-TITLE=Plaza del Teatro:geo:-78.5085724,-0.2189843
END:VEVENT
BEGIN:VEVENT
DTSTART;TZID=America/Guayaquil:20250308T180000
DTEND;TZID=America/Guayaquil:20250308T190000
DTSTAMP:20260420T010345
CREATED:20250219T151535Z
LAST-MODIFIED:20250219T153048Z
UID:256741-1741456800-1741460400@teatrosucre.com
SUMMARY:Semana de dramaturgia | Obra: Vaciar
DESCRIPTION:En el Festival de Artes Escénicas Fiesta Escénica de Quito 2024\, la residencia de dramaturgia fue un espacio de exploración y creación teatral. Los dramaturgos desarrollaron obras inéditas\, que se presentarán este mes en lecturas dramáticas\, donde el público podrá apreciar la esencia de los textos antes de su puesta en escena. Estas lecturas fomentan el diálogo entre autores\, actores y espectadores\, ofreciendo una mirada al proceso creativo del teatro. \nSinopsis de Vaciar de Alejandra Pinto\nA\, gestora cultural quiteña de 34 años\, tiene una obsesión con contar. Cuenta las horas\, los días y el número de festivales que organiza y resultan fallidos.  \nEn medio de la pandemia\, por culpa del Covid y una falla en su sistema de contabilidad\, A tiene que tomar una decisión importante\, la cual podrá enfrentar gracias a la compañía de sus amigas y su gato.  \nVaciar es una obra que habla desde el cuerpo\, detallando las sensaciones y pensamientos de una mujer que ha recurrido a contar\, cortar y cantar para atravesar sus crisis personales\, crisis que también nos atraviesan a todas y todos cómo sociedad.   \nVaciar descubre la cotidianidad y la red de afectos de una mujer que recurre a vaciar su cuerpo como un mecanismo para sobrevivir.   \n🎟️ Inscríbete aquí.
URL:https://teatrosucre.com/event/semana-de-dramaturgia-obra-vaciar/
LOCATION:Teatro Variedades\, Plaza del Teatro\, Quito\, Pichincha\, Ecuador
CATEGORIES:Lectura dramática
ATTACH;FMTTYPE=image/png:https://cdn.teatrosucre.com/wp-content/uploads/2025/02/19101409/Lecturas_Noticia_FIEQ_1920x900-1.png
GEO:-0.2189843;-78.5085724
X-APPLE-STRUCTURED-LOCATION;VALUE=URI;X-ADDRESS=Teatro Variedades Plaza del Teatro Quito Pichincha Ecuador;X-APPLE-RADIUS=500;X-TITLE=Plaza del Teatro:geo:-78.5085724,-0.2189843
END:VEVENT
BEGIN:VEVENT
DTSTART;TZID=America/Guayaquil:20250310T180000
DTEND;TZID=America/Guayaquil:20250310T190000
DTSTAMP:20260420T010345
CREATED:20250219T152923Z
LAST-MODIFIED:20250219T153128Z
UID:256740-1741629600-1741633200@teatrosucre.com
SUMMARY:Semana de dramaturgia | Obra: Ternura
DESCRIPTION:En el Festival de Artes Escénicas Fiesta Escénica de Quito 2024\, la residencia de dramaturgia fue un espacio de exploración y creación teatral. Los dramaturgos desarrollaron obras inéditas\, que se presentarán este mes en lecturas dramáticas\, donde el público podrá apreciar la esencia de los textos antes de su puesta en escena. Estas lecturas fomentan el diálogo entre autores\, actores y espectadores\, ofreciendo una mirada al proceso creativo del teatro. \nSinopsis de Ternura de Joce Deux\nTernura\, es un partido de tenis\, fragmentos que van y vienen\, igual a vítores y abucheos.   \nEs un mensaje de voz\, y otro\, y otro\, que no sabe despedirse.   \nTernura son fotografías familiares quemadas\, el hogar vuelto trizas.   \nEl cadáver\, el fuego\, las cenizas\, la memoria.  \nQuizás es un aeropuerto donde dos extraños\, padre e hijo\, mierda y plastilina\, “inmezclables”\, se encuentran en pasillos rodantes que los llevan en direcciones opuestas.   \nTal vez sea dos pelotas amarillas\, chocando entre sí\, golpeándose\, sujetándose para separarse de nuevo.   \nEs un abrazo que no ocurre.   \nUn aeropuerto vacío que se incendia\, como lo demás\, como las fotografías\, como el cadáver del padre.  \nEs otro mensaje de voz\, el último. Y otro\, el último.  Y otro más.  \n🎟️ Inscríbete aquí.
URL:https://teatrosucre.com/event/semana-de-dramaturgia-obra-ternura/
LOCATION:Teatro Variedades\, Plaza del Teatro\, Quito\, Pichincha\, Ecuador
CATEGORIES:Lectura dramática
ATTACH;FMTTYPE=image/png:https://cdn.teatrosucre.com/wp-content/uploads/2025/02/19101409/Lecturas_Noticia_FIEQ_1920x900-1.png
GEO:-0.2189843;-78.5085724
X-APPLE-STRUCTURED-LOCATION;VALUE=URI;X-ADDRESS=Teatro Variedades Plaza del Teatro Quito Pichincha Ecuador;X-APPLE-RADIUS=500;X-TITLE=Plaza del Teatro:geo:-78.5085724,-0.2189843
END:VEVENT
BEGIN:VEVENT
DTSTART;TZID=America/Guayaquil:20250312T180000
DTEND;TZID=America/Guayaquil:20250312T190000
DTSTAMP:20260420T010345
CREATED:20250219T153024Z
LAST-MODIFIED:20250219T153137Z
UID:256736-1741802400-1741806000@teatrosucre.com
SUMMARY:Semana de dramaturgia | Obra: Avenida Puente
DESCRIPTION:En el Festival de Artes Escénicas Fiesta Escénica de Quito 2024\, la residencia de dramaturgia fue un espacio de exploración y creación teatral. Los dramaturgos desarrollaron obras inéditas\, que se presentarán este mes en lecturas dramáticas\, donde el público podrá apreciar la esencia de los textos antes de su puesta en escena. Estas lecturas fomentan el diálogo entre autores\, actores y espectadores\, ofreciendo una mirada al proceso creativo del teatro. \nSinopsis de Avenida Puente de Roberto Sánchez Cazar\nUna mujer\, Rita\, está trepada en un puente alto al final de una avenida amplia.  ¿Quiere sucidarse?\, ¿volar? o ¿simplemente liberar una angustia contenida?; ella está ahí y nadie sabe lo que sucede porque nadie puede entender una sola palabra de lo que dice. Rosso en su bicicleta quiere salvarla\, en realidad\, intenta explicarla\, tratando de hacer inteligibles sus raras palabras y su presencia incomprensible.  \nA partir de allí y desde la visión de 6 mujeres\, Avenida Puente traza el retrato de un país que se desvanece; uno hecho de presencias en permanente tránsito\, personas que desaparecen en medio de la indiferencia\, la muerte cercana y una imposibilidad de entenderse más allá de palabras gastadas e imágenes manoseadas y en el que los cuerpos son violentados y descartados inexplicablemente\, como operaciones para el olvido\, al final de una avenida-puente cubierta por la neblina y una desesperada búsqueda de sentido.  \nUn puente para huir o para volver\, un puente para decir adiós o regresar\, un puente para caer o para volar\, “Avenida Puente” es un texto que funciona como un aparato para la descarga intensa de emociones y que se mueve en un universo sensorial\, irónico y brutalmente crudo\, una carcajada ácida que se eleva desde el puente hacia lo desconocido.  \n🎟️ Inscríbete aquí.
URL:https://teatrosucre.com/event/semana-de-dramaturgia-obra-avenida-puente/
LOCATION:Teatro Variedades\, Plaza del Teatro\, Quito\, Pichincha\, Ecuador
CATEGORIES:Lectura dramática
ATTACH;FMTTYPE=image/png:https://cdn.teatrosucre.com/wp-content/uploads/2025/02/19101409/Lecturas_Noticia_FIEQ_1920x900-1.png
GEO:-0.2189843;-78.5085724
X-APPLE-STRUCTURED-LOCATION;VALUE=URI;X-ADDRESS=Teatro Variedades Plaza del Teatro Quito Pichincha Ecuador;X-APPLE-RADIUS=500;X-TITLE=Plaza del Teatro:geo:-78.5085724,-0.2189843
END:VEVENT
END:VCALENDAR