BEGIN:VCALENDAR
VERSION:2.0
PRODID:-//Fundación Teatro Nacional Sucre - ECPv6.15.20//NONSGML v1.0//EN
CALSCALE:GREGORIAN
METHOD:PUBLISH
X-WR-CALNAME:Fundación Teatro Nacional Sucre
X-ORIGINAL-URL:https://teatrosucre.com
X-WR-CALDESC:Eventos para Fundación Teatro Nacional Sucre
REFRESH-INTERVAL;VALUE=DURATION:PT1H
X-Robots-Tag:noindex
X-PUBLISHED-TTL:PT1H
BEGIN:VTIMEZONE
TZID:America/Guayaquil
BEGIN:STANDARD
TZOFFSETFROM:-0500
TZOFFSETTO:-0500
TZNAME:-05
DTSTART:20250101T000000
END:STANDARD
END:VTIMEZONE
BEGIN:VEVENT
DTSTART;TZID=America/Guayaquil:20260329T160000
DTEND;TZID=America/Guayaquil:20260329T170000
DTSTAMP:20260422T205433
CREATED:20260311T214010Z
LAST-MODIFIED:20260316T203238Z
UID:278500-1774800000-1774803600@teatrosucre.com
SUMMARY:Conversatorio con Luzmila Carpio
DESCRIPTION:Este evento es de acceso libre\, pero necesitará inscripción para el ingreso.  \nLos sonidos trascienden en la vigésima cuarta edición del Festival Internacional de Música Sacra de Quito (Fimusaq). Vive experiencias increíbles en espacios icónicos de la ciudad del 20 al 31 de marzo. \nEscucha acá a Luzmila Carpio. \n📑Inscríbete acá.\nLuzmila Carpio tendrá un conversatorio con la comunidad artística del país y esta se desarrollará en la Terraza del Teatro Nacional Sucre.   \nSobre Luzmila Carpio\nEl nuevo álbum Inti Watana – El Retorno del Sol\, publicado el 23 de septiembre por ZZK Records\, marca un nuevo capítulo creativo para la artista\, quien en esta ocasión colabora con el productor argentino Leonardo Martinelli\, conocido por su proyecto Tremor y por su trabajo fusionando ritmos folclóricos latinoamericanos con sonoridades electrónicas contemporáneas. \nEl disco propone un viaje sonoro que\, con una sensibilidad casi infantil\, reflexiona sobre una de las amenazas más urgentes para la humanidad. Las vibrantes cuerdas del charango y las percusiones manuales tejen patrones rítmicos irregulares que\, junto a un bajo profundo y difuso\, construyen un groove hipnótico y sorprendentemente moderno. \nLa producción recibió amplio reconocimiento de la crítica y fue incluida en el puesto #10 de los 50 mejores álbumes en español de 2023 según Rolling Stone\, revista que describió a la artista como una de las tres leyendas vivas de la música latinoamericana. El proyecto se expande además en un documental de larga duración\, cuyo estreno mundial está previsto para 2024. \nLuzmila Carpio presenta un conversatorio en torno a su concierto en el Fimusaq 2026.
URL:https://teatrosucre.com/event/conversatorio-con-luzmila-carpio/
LOCATION:Terraza TNS (Segundo piso)\, Manabí y Flores\, Quito\, Pichincha\, Ecuador
CATEGORIES:Cursos
ATTACH;FMTTYPE=image/jpeg:https://cdn.teatrosucre.com/wp-content/uploads/2026/03/11113230/5375d908-1cca-489f-a4f6-3b706801f501.jpg
END:VEVENT
END:VCALENDAR