BEGIN:VCALENDAR
VERSION:2.0
PRODID:-//Fundación Teatro Nacional Sucre - ECPv6.15.20//NONSGML v1.0//EN
CALSCALE:GREGORIAN
METHOD:PUBLISH
X-ORIGINAL-URL:https://teatrosucre.com
X-WR-CALDESC:Eventos para Fundación Teatro Nacional Sucre
REFRESH-INTERVAL;VALUE=DURATION:PT1H
X-Robots-Tag:noindex
X-PUBLISHED-TTL:PT1H
BEGIN:VTIMEZONE
TZID:America/Guayaquil
BEGIN:STANDARD
TZOFFSETFROM:-0500
TZOFFSETTO:-0500
TZNAME:-05
DTSTART:20230101T000000
END:STANDARD
END:VTIMEZONE
BEGIN:VEVENT
DTSTART;TZID=America/Guayaquil:20240925T110000
DTEND;TZID=America/Guayaquil:20240925T120000
DTSTAMP:20260423T230211
CREATED:20240820T143517Z
LAST-MODIFIED:20240917T202723Z
UID:232586-1727262000-1727265600@teatrosucre.com
SUMMARY:Masterclass Jazzmeia Horn
DESCRIPTION:¡El Ecuador Jazz 2024 está aquí! Diez países en escena y más de veinte proyectos musicales son parte de esta fiesta jazzera en Quito. La decimonovena edición de este festival se vivirá del 11 al 29 septiembre con conciertos\, clínicas\, talleres y más actividades paralelas. Únete a nosotros en este encuentro megadiverso en la ciudad.   \nEsta es una actividad paralela en el marco del Festival Ecuador Jazz 2024. \nEscucha la playlist oficial de Ecuador Jazz 2024 aquí.\nJazzmeia Horn nació en Dallas hace treinta y tres años\, en poco tiempo se ha convertido en una voz importante en la escena jazzera de Estados Unidos. Su abuela eligió el nombre Jazzmeia\, motivada en que su nieta cumpla el legado de hacer jazz y blues en el futuro\, misión que ahora cumple. En el Ecuador Jazz 2024 desarrollará una masterclass para todo público. \nRecuerda que hay aforo limitado. \nPara ingresar deberás inscribirte en este formulario.
URL:https://teatrosucre.com/event/masterclass-jazzmeia-horn/
LOCATION:Teatro Variedades\, Plaza del Teatro\, Quito\, Pichincha\, Ecuador
CATEGORIES:Actividades Paralelas | Ecuador Jazz 2024
ATTACH;FMTTYPE=image/jpeg:https://cdn.teatrosucre.com/wp-content/uploads/2024/08/21124538/25-EJazz-Terraza-Jazzmeia-Horn.jpg
GEO:-0.2189843;-78.5085724
X-APPLE-STRUCTURED-LOCATION;VALUE=URI;X-ADDRESS=Teatro Variedades Plaza del Teatro Quito Pichincha Ecuador;X-APPLE-RADIUS=500;X-TITLE=Plaza del Teatro:geo:-78.5085724,-0.2189843
END:VEVENT
END:VCALENDAR