BEGIN:VCALENDAR
VERSION:2.0
PRODID:-//Fundación Teatro Nacional Sucre - ECPv6.15.20//NONSGML v1.0//EN
CALSCALE:GREGORIAN
METHOD:PUBLISH
X-WR-CALNAME:Fundación Teatro Nacional Sucre
X-ORIGINAL-URL:https://teatrosucre.com
X-WR-CALDESC:Eventos para Fundación Teatro Nacional Sucre
REFRESH-INTERVAL;VALUE=DURATION:PT1H
X-Robots-Tag:noindex
X-PUBLISHED-TTL:PT1H
BEGIN:VTIMEZONE
TZID:America/Guayaquil
BEGIN:STANDARD
TZOFFSETFROM:-0500
TZOFFSETTO:-0500
TZNAME:-05
DTSTART:20250101T000000
END:STANDARD
END:VTIMEZONE
BEGIN:VEVENT
DTSTART;TZID=America/Guayaquil:20260507T190000
DTEND;TZID=America/Guayaquil:20260507T210000
DTSTAMP:20260425T154533
CREATED:20260409T202258Z
LAST-MODIFIED:20260409T214144Z
UID:278844-1778180400-1778187600@teatrosucre.com
SUMMARY:Rock Swings
DESCRIPTION:Después de la compra no se aceptan cambios y/o devoluciones. \nLa UDLA Big Band\, ensamble de jazz de la Universidad de Las Américas\, llega con un concierto que rompe esquemas y conecta generaciones. Fundada en 2014 y dirigida por Raimon Rovira Tibau\, esta agrupación se ha consolidado como una de las plataformas académicas más destacadas del país\, formando músicos de alto nivel y llevando el jazz a nuevos públicos. \nCon una sólida trayectoria en escenarios emblemáticos del Ecuador\, la banda se distingue por su versatilidad y potencia interpretativa. Su repertorio transita con naturalidad entre el swing\, el hard bop\, el latin jazz y las nuevas corrientes contemporáneas. \nEn esta ocasión\, presentan “Rock Swings”\, una propuesta vibrante que reimagina grandes clásicos del rock en formato big band. Una experiencia sonora envolvente que fusiona la energía del rock con la sofisticación del jazz\, creando un espectáculo dinámico\, fresco y lleno de matices. \nVen y descubre cómo suenan tus canciones favoritas como nunca antes. \nLa UDLA Big Band fusiona jazz y rock en “Rock Swings”\, un concierto potente y vibrante.
URL:https://teatrosucre.com/event/rock-swings/
LOCATION:Teatro Nacional Sucre\, Guayaquil &\, Manabi\, Quito 170401\, Quito\, Pichincha\, Ecuador
ATTACH;FMTTYPE=image/jpeg:https://teatrosucre.com/wp-content/uploads/2026/04/34d19443-5880-443a-9c83-a27c2d870573.jpg
GEO:-0.2191751;-78.508865
X-APPLE-STRUCTURED-LOCATION;VALUE=URI;X-ADDRESS=Teatro Nacional Sucre Guayaquil & Manabi Quito 170401 Quito Pichincha Ecuador;X-APPLE-RADIUS=500;X-TITLE=Guayaquil &\, Manabi\, Quito 170401:geo:-78.508865,-0.2191751
END:VEVENT
END:VCALENDAR