BEGIN:VCALENDAR
VERSION:2.0
PRODID:-//Fundación Teatro Nacional Sucre - ECPv6.15.20//NONSGML v1.0//EN
CALSCALE:GREGORIAN
METHOD:PUBLISH
X-WR-CALNAME:Fundación Teatro Nacional Sucre
X-ORIGINAL-URL:https://teatrosucre.com
X-WR-CALDESC:Eventos para Fundación Teatro Nacional Sucre
REFRESH-INTERVAL;VALUE=DURATION:PT1H
X-Robots-Tag:noindex
X-PUBLISHED-TTL:PT1H
BEGIN:VTIMEZONE
TZID:America/Guayaquil
BEGIN:STANDARD
TZOFFSETFROM:-0500
TZOFFSETTO:-0500
TZNAME:-05
DTSTART:20250101T000000
END:STANDARD
END:VTIMEZONE
BEGIN:VEVENT
DTSTART;TZID=America/Guayaquil:20260424T150000
DTEND;TZID=America/Guayaquil:20260424T160000
DTSTAMP:20260425T113413
CREATED:20260414T210403Z
LAST-MODIFIED:20260415T150744Z
UID:278929-1777042800-1777046400@teatrosucre.com
SUMMARY:Encuentros de Guitarras | Conferencia: La obra de Marcelo Beltrán como recurso en la pedagogía grupal
DESCRIPTION:Conferencia de acceso libre. Para garantizar tu ingreso\, es necesario descargar previamente tu entrada. \n👉Conferencista: Efraín Jaque (Ecuador)\nEl  Encuentro de Guitarras 2026 reunirá a destacados artistas nacionales e internacionales en una celebración que trasciende el concierto para convertirse en un espacio de aprendizaje\, intercambio y conexión musical.  \nEntre acordes\, saberes y trayectorias diversas\, la guitarra se revelará en toda su versatilidad\, tejiendo puentes entre Ecuador y Latinoamérica.  \nEfraín Jaque presenta la conferencia « La obra de Marcelo Beltrán como recurso en la pedagogía grupal».
URL:https://teatrosucre.com/event/encuentros-de-guitarras-conferencia-la-obra-de-marcelo-beltran-como-recurso-en-la-pedagogia-grupal/
LOCATION:Auditorio Raúl Garzón\, QFCR+FFC\, Quito 170130\, Quito\, Pichincha\, 170111\, Ecuador
CATEGORIES:Conversatorio
ATTACH;FMTTYPE=image/jpeg:https://teatrosucre.com/wp-content/uploads/2026/04/5795d202-5408-45c3-beac-371e5399884a.jpg
END:VEVENT
BEGIN:VEVENT
DTSTART;TZID=America/Guayaquil:20260424T173000
DTEND;TZID=America/Guayaquil:20260424T183000
DTSTAMP:20260425T113413
CREATED:20260414T210741Z
LAST-MODIFIED:20260421T143759Z
UID:278930-1777051800-1777055400@teatrosucre.com
SUMMARY:Encuentros de Guitarras | Conferencia: La obra estudio como base de la formación instrumental
DESCRIPTION:Conferencia de acceso libre. Para garantizar tu ingreso\, es necesario descargar previamente tu entrada. \n 👉Conferencista: Gustavo Niño (Colombia)\nEl  Encuentro de Guitarras 2026 reunirá a destacados artistas nacionales e internacionales en una celebración que trasciende el concierto para convertirse en un espacio de aprendizaje\, intercambio y conexión musical.  \nEntre acordes\, saberes y trayectorias diversas\, la guitarra se revelará en toda su versatilidad\, tejiendo puentes entre Ecuador y Latinoamérica.  \nBiografía de Gustavo Niño\nMúsico colombiano con maestría en música por la Universidad del Cauca\, formado en el Conservatorio Antonio María Valencia y el Instituto Popular de Cultura. Se ha destacado como concertista\, investigador y docente\, promoviendo el repertorio de compositores colombianos en escenarios internacionales. \nComo solista\, ha trabajado con reconocidos directores\, entre ellos Leo Brouwer. También ha desarrollado una importante carrera como compositor y arreglista\, con más de 400 obras\, y ha sido premiado tanto por su interpretación como por su labor investigativa. \nAdemás\, ha explorado diversos géneros musicales como el rock\, jazz rock\, salsa y música andina colombiana. Actualmente\, se desempeña como docente\, investigador y coordinador académico en el Conservatorio Antonio María Valencia. \nGustavo Niño presenta la conferencia «La obra estudio como base de la formación instrumental».
URL:https://teatrosucre.com/event/encuentros-de-guitarras-conferencia-la-obra-estudio-como-base-de-la-formacion-instrumental/
LOCATION:Auditorio Raúl Garzón\, QFCR+FFC\, Quito 170130\, Quito\, Pichincha\, 170111\, Ecuador
CATEGORIES:Conversatorio
ATTACH;FMTTYPE=image/jpeg:https://teatrosucre.com/wp-content/uploads/2026/04/5795d202-5408-45c3-beac-371e5399884a.jpg
END:VEVENT
BEGIN:VEVENT
DTSTART;TZID=America/Guayaquil:20260424T190000
DTEND;TZID=America/Guayaquil:20260424T200000
DTSTAMP:20260425T113413
CREATED:20260410T225803Z
LAST-MODIFIED:20260421T145836Z
UID:278893-1777057200-1777060800@teatrosucre.com
SUMMARY:Encuentro de Guitarras | Concierto: Christopher Avilez y Ensamble de Guitarras de Quito
DESCRIPTION:Concierto de acceso libre. Para garantizar tu ingreso\, es necesario descargar previamente tu entrada. \nEste 22 de abril\, la ciudad se convertirá en el punto de encuentro de las cuerdas que narran historias sin palabras. El Encuentro de Guitarras 2026 reunirá a destacados artistas nacionales e internacionales en una celebración que trasciende el concierto para convertirse en un espacio de aprendizaje\, intercambio y conexión musical. Entre acordes\, saberes y trayectorias diversas\, la guitarra se revelará en toda su versatilidad\, tejiendo puentes entre Ecuador y Latinoamérica. \nEn esta fecha\, la alineación del concierto será: Christopher Avilez y Ensamble de Guitarras de Quito \nSobre Christopher Avilez (México)\nChristopher Avilez es un guitarrista clásico con proyección internacional\, activo tanto como solista como en música de cámara. Se ha formado en instituciones de alto nivel en Europa y América\, y actualmente realiza un doctorado en musicología enfocado en la obra para guitarra de Pedro Ximénez Abril y Tirado. \nHa ofrecido conciertos en diversos países de ambos continentes y ha colaborado con importantes orquestas. Su discografía incluye seis álbumes que abarcan repertorio histórico y contemporáneo\, con especial énfasis en la recuperación de música iberoamericana. \nA lo largo de su carrera ha recibido más de veinte premios en concursos\, así como reconocimientos y becas destacadas. Su propuesta artística combina solidez académica\, sensibilidad interpretativa y un fuerte vínculo con el repertorio de la región. \nSobre el Ensamble de Guitarras de Quito \nEl Ensamble de Guitarras de Quito\, fundado en 1993 por el Municipio de Quito\, es una agrupación integrada por siete músicos que actualmente es gestionada por la Fundación Teatro Nacional Sucre y trabaja en el Centro Cultural Mama Cuchara. \nSe caracteriza por la versatilidad de la guitarra\, interpretando repertorios que van desde la música renacentista hasta la contemporánea ecuatoriana. Su propuesta destaca por la solidez técnica\, la cohesión musical y humana\, y una conexión cercana con el público. \nConoce el repertorio\n\nCinco Añoranzas — Académico español | Ángel Piñeiro\nSeis Canciones Capricorné — Académico francés | Roland Dyens\nColección Íntima — Académico español | Vicente Asencio\nSonata I — Académico cubano | Leo Brouwer\nSonata Op. 47 — Académico argentino | Alberto Ginastera\nLos Volcanes (pieza concertante para guitarra y orquesta de guitarras) — Académico | Lupino Caballero\nPenas Mías — Sanjuanito | Cristóbal Ojeda | Marcelo Beltrán\nCapariche — Aire típico | Sixto María Durán | Marcelo Beltrán\n\nEl Encuentro de Guitarras 2026 reúne artistas nacionales e internacionales este 24 de abril.
URL:https://teatrosucre.com/event/encuentro-de-guitarras-concierto-christopher-avilez-y-ensamble-de-guitarras-de-quito/
LOCATION:Auditorio Raúl Garzón\, QFCR+FFC\, Quito 170130\, Quito\, Pichincha\, 170111\, Ecuador
CATEGORIES:Música
ATTACH;FMTTYPE=image/jpeg:https://teatrosucre.com/wp-content/uploads/2026/04/5795d202-5408-45c3-beac-371e5399884a.jpg
END:VEVENT
BEGIN:VEVENT
DTSTART;TZID=America/Guayaquil:20260424T210000
DTEND;TZID=America/Guayaquil:20260424T230000
DTSTAMP:20260425T113413
CREATED:20260130T142638Z
LAST-MODIFIED:20260210T195624Z
UID:277841-1777064400-1777071600@teatrosucre.com
SUMMARY:Symphon-e
DESCRIPTION:*Algunas localidades del Teatro Nacional Sucre requieren el uso de gradas para su acceso.\nPor favor\, considere lo siguiente para su movilización: \nPLATEA: 12 gradas\n2DA DE PALCOS: 15 gradas\nLUNETA: 27 gradas\nTERRAZA TNS: 24 gradas \nSYMPHON-E es una experiencia musical y sensorial que reinterpreta los grandes himnos de la música electrónica de todos los tiempos desde una poderosa formación sinfónica. Más que un concierto\, es una celebración del sonido\, la innovación tecnológica y la emoción colectiva. \nCon más de 50 artistas en escena —músicos de la Orquesta Sinfónica de Quito\, coristas\, DJs y percusionistas—\, la velada propone un viaje inmersivo donde la majestuosidad orquestal se entrelaza con beats\, texturas y paisajes sonoros de la electrónica contemporánea. \nA través de una cuidada selección de 13 obras icónicas\, adaptadas especialmente para orquesta y coro\, el público vivirá una experiencia que conecta generaciones y universos estéticos diversos. El resultado es un espectáculo que articula tradición y modernidad\, lo local con lo global\, y lo analógico con lo digital\, posicionando a la música electrónica como un nuevo lenguaje sinfónico. \n\nPor solicitud del artista los descuentos no aplican a los palcos grupales.\nHimnos de la electrónica reinterpretados en clave sinfónica: 80 artistas\, emoción y viaje inmersivo.
URL:https://teatrosucre.com/event/symphon-e-2/
LOCATION:Teatro Nacional Sucre\, Guayaquil &\, Manabi\, Quito 170401\, Quito\, Pichincha\, Ecuador
CATEGORIES:Música
ATTACH;FMTTYPE=image/png:https://cdn.teatrosucre.com/wp-content/uploads/2026/01/10145618/m2go-AGOTADO-2.png
GEO:-0.2191751;-78.508865
X-APPLE-STRUCTURED-LOCATION;VALUE=URI;X-ADDRESS=Teatro Nacional Sucre Guayaquil & Manabi Quito 170401 Quito Pichincha Ecuador;X-APPLE-RADIUS=500;X-TITLE=Guayaquil &\, Manabi\, Quito 170401:geo:-78.508865,-0.2191751
END:VEVENT
END:VCALENDAR