BEGIN:VCALENDAR
VERSION:2.0
PRODID:-//Fundación Teatro Nacional Sucre - ECPv6.15.20//NONSGML v1.0//EN
CALSCALE:GREGORIAN
METHOD:PUBLISH
X-WR-CALNAME:Fundación Teatro Nacional Sucre
X-ORIGINAL-URL:https://teatrosucre.com
X-WR-CALDESC:Eventos para Fundación Teatro Nacional Sucre
REFRESH-INTERVAL;VALUE=DURATION:PT1H
X-Robots-Tag:noindex
X-PUBLISHED-TTL:PT1H
BEGIN:VTIMEZONE
TZID:America/Guayaquil
BEGIN:STANDARD
TZOFFSETFROM:-0500
TZOFFSETTO:-0500
TZNAME:-05
DTSTART:20250101T000000
END:STANDARD
END:VTIMEZONE
BEGIN:VEVENT
DTSTART;TZID=America/Guayaquil:20260422T173000
DTEND;TZID=America/Guayaquil:20260422T183000
DTSTAMP:20260425T113411
CREATED:20260414T201127Z
LAST-MODIFIED:20260416T135055Z
UID:278921-1776879000-1776882600@teatrosucre.com
SUMMARY:Encuentros de Guitarras | Conferencia: Chacarera y Zamba Argentina
DESCRIPTION:Conferencia de acceso libre. Para garantizar tu ingreso\, es necesario descargar previamente tu entrada. \n👉 Conferencista: Juan Carlos Fierro (Colombia y Argentina)\nEl Encuentro de Guitarras 2026 reunirá a destacados artistas nacionales e internacionales en una celebración que trasciende el concierto para convertirse en un espacio de aprendizaje\, intercambio y conexión musical. \nEntre acordes\, saberes y trayectorias diversas\, la guitarra se revelará en toda su versatilidad\, tejiendo puentes entre Ecuador y Latinoamérica. \nJuan Carlos Fierro presenta la conferencia «Chacarera y Zamba Argentina».
URL:https://teatrosucre.com/event/conferencia-chacarera-y-zamba-argentina/
LOCATION:Auditorio Raúl Garzón\, QFCR+FFC\, Quito 170130\, Quito\, Pichincha\, 170111\, Ecuador
CATEGORIES:Conversatorio
ATTACH;FMTTYPE=image/jpeg:https://cdn.teatrosucre.com/wp-content/uploads/2026/04/16084646/5795d202-5408-45c3-beac-371e5399884.jpeg
END:VEVENT
BEGIN:VEVENT
DTSTART;TZID=America/Guayaquil:20260422T190000
DTEND;TZID=America/Guayaquil:20260422T200000
DTSTAMP:20260425T113411
CREATED:20260410T224749Z
LAST-MODIFIED:20260421T145826Z
UID:278890-1776884400-1776888000@teatrosucre.com
SUMMARY:Encuentro de Guitarras | Concierto: Ensamble de Guitarras de Quito\, Ensamble Zambrawer\, En Cuerdas y Vitela Ensamble
DESCRIPTION:Concierto de acceso libre. Para garantizar tu ingreso\, es necesario descargar previamente tu entrada. \nEste 22 de abril\, la ciudad se convertirá en el punto de encuentro de las cuerdas que narran historias sin palabras. El Encuentro de Guitarras 2026 reunirá a destacados artistas nacionales e internacionales en una celebración que trasciende el concierto para convertirse en un espacio de aprendizaje\, intercambio y conexión musical. Entre acordes\, saberes y trayectorias diversas\, la guitarra se revelará en toda su versatilidad\, tejiendo puentes entre Ecuador y Latinoamérica. \nEn esta fecha\, la alineación del concierto será: Ensamble de Guitarras de Quito\, Ensamble Zambrawer\, En Cuerdas y Vitela Ensamble. \nSobre el Ensamble de Guitarras de Quito \nEl Ensamble de Guitarras de Quito\, fundado en 1993 por el Municipio de Quito\, es una agrupación integrada por siete músicos que actualmente es gestionada por la Fundación Teatro Nacional Sucre y trabaja en el Centro Cultural Mama Cuchara. \nSe caracteriza por la versatilidad de la guitarra\, interpretando repertorios que van desde la música renacentista hasta la contemporánea ecuatoriana. Su propuesta destaca por la solidez técnica\, la cohesión musical y humana\, y una conexión cercana con el público. \nSobre En Cuerdas y Vitela Ensamble\n\n\n\n\n\n\n\n\nEn Cuerdas y Vitela Ensamble es un proyecto musical y pedagógico creado en 2020\, enfocado en la investigación\, interpretación y difusión de la música tradicional ecuatoriana\, con especial énfasis en la guitarra quiteña. Nació como una iniciativa educativa y se consolidó como un ensamble que explora nuevas posibilidades sonoras a partir de las raíces musicales del país. \nSu trabajo se sitúa entre la tradición y la innovación\, integrando la experimentación y la creación musical. A través del estudio de ritmos tradicionales y la composición\, el ensamble busca enriquecer el repertorio ecuatoriano y mantener vivo su legado cultural\, al mismo tiempo que propone nuevas formas de expresión dentro de la música popular y la escuela de la guitarra quiteña. \n\n\n\n\n\n\n\n\nSobre el Ensamble Zambrawer\nEl Ensamble Zambrawer es una agrupación ecuatoriana con 20 años de trayectoria\, fundada y dirigida por el maestro René Zambrano Calderón\, dedicada a la difusión de música universal en formato académico. Su repertorio abarca desde música clásica hasta géneros contemporáneos como rock\, pop\, jazz\, además de música latinoamericana y ecuatoriana\, con muchos arreglos realizados por su director. \nEs considerado un ensamble pionero en la interpretación de obras sinfónicas adaptadas a guitarra clásica. Ha participado en importantes festivales y escenarios nacionales e internacionales\, como el Festival de Música Sacra y el Festival de Guitarra Clásica Ciudad de Quito\, además de salas emblemáticas como la Casa de la Música. \nTambién ha recibido formación de maestros internacionales de gran renombre y\, desde 2020\, actúa como embajador del Día Mundial de la Guitarra en Quito\, organizando festivales y conciertos que promueven la guitarra ecuatoriana a nivel internacional. \nConoce el repertorio\n\nVariaciones de Terciopelo Negro — AcadémicoMarcelo Beltrán (1965–)\nCamino y Verdad — AcadémicoEfraín Jaque (1979–)\nSubyugante — Pasillo ecuatorianoCarlos Bonilla Chávez (1923–2010) · Arreglo: René Zambrano\nAtahualpa — YumboCarlos Bonilla Chávez (1923–2010) · Arreglo: René Zambrano\nPercusón — AcadémicoGerardo Tamez (1948–)\nAlma Trémula — DanzanteDavid Tamayo (1993–)\nGuitarreada Urbano Andina — SanjuanitoDavid Tamayo (1993–)\nOquedad — PasilloDavid Tamayo (1993–)\nCaminito de Piedra — TonadaDavid Tamayo (1993–)\nNo Hay Nada Que Sirva — ValsDavid Tamayo (1993–)\n\nEl Encuentro de Guitarras 2026 reúne artistas nacionales e internacionales este 22 de abril.
URL:https://teatrosucre.com/event/encuentro-de-guitarras-concierto-ensamble-de-guitarras-de-quito-ensamble-zambrawer-en-cuerdas-y-vitela-ensamble/
LOCATION:Auditorio Raúl Garzón\, QFCR+FFC\, Quito 170130\, Quito\, Pichincha\, 170111\, Ecuador
CATEGORIES:Música
ATTACH;FMTTYPE=image/jpeg:https://teatrosucre.com/wp-content/uploads/2026/04/5795d202-5408-45c3-beac-371e5399884a.jpg
END:VEVENT
END:VCALENDAR